PDS_VERSION_ID = PDS3
/* FILE DATA ELEMENTS */
RECORD_TYPE = UNDEFINED
/* POINTERS TO DATA OBJECTS */
^IMAGE = ("H2459_0000_IR4.TIF")
/* IDENTIFICATION DATA ELEMENTS */
DATA_SET_ID = "MEX-M-HRSC-4-REFDR-MAPPROJECT-EXT1-V4.0"
DATA_SET_NAME = "MARS EXPRESS HRSC MAP PROJECTED REFDR EXTENSION1 V4.0"
DETECTOR_ID = MEX_HRSC_IR
EVENT_TYPE = "MARS-REGIONAL-MAPPING-Im-Gl-Pf"
INSTRUMENT_HOST_ID = MEX
INSTRUMENT_HOST_NAME = "MARS EXPRESS"
INSTRUMENT_ID = HRSC
INSTRUMENT_NAME = "HIGH RESOLUTION STEREO CAMERA"
MISSION_NAME = "MARS EXPRESS"
MISSION_PHASE_NAME = ME_Phase_1
PROCESSING_LEVEL_ID = 4
PRODUCT_CREATION_TIME = 2023-02-08T07:05:14.000Z
PRODUCT_ID = "H2459_0000_IR4.TIF"
RELEASE_ID = 0001
REVISION_ID = 0000
/* QUALITY DATA ELEMENTS */
DATA_QUALITY_ID = 1
DATA_QUALITY_DESC = "Data calculated based on original SPICE kernels"
/* TIME DATA ELEMENTS */
SPACECRAFT_CLOCK_START_COUNT = "1/0082446643.56188"
SPACECRAFT_CLOCK_STOP_COUNT = "1/0082446896.31492"
START_TIME = 2005-12-12T05:50:55.201Z
STOP_TIME = 2005-12-12T05:54:16.581Z
/* ORBITAL DATA ELEMENTS */
ASCENDING_NODE_LONGITUDE = 176.64
MAXIMUM_RESOLUTION = 0.0452
FOOTPRINT_POINT_LATITUDE = (-80.916,-81.125,-81.31,-81.3132, -81.2414,-80.9863,-80.601,-80.343, -79.954,-79.6936,-79.4319,-79.169, -78.908,-78.5148,-78.2596,-78.0046, -77.7541,-77.4974,-77.2408,-76.9833, -76.7253,-76.3372,-76.0783,-75.8187, -75.4291,-75.1699,-74.7758,-74.3831, -74.1208,-73.8582,-73.4648,-73.2013, -72.9366,-72.672,-72.4077,-72.0111, -71.7491,-71.4817,-71.2157,-70.9503, -70.5527,-70.1535,-69.8869,-69.6205, -69.3533,-69.0859,-68.819,-68.5519, -68.2849,-68.1511,-68.1325,-68.0345, -67.976,-67.9743,-67.9745,-68.2397, -68.5056,-68.7695,-69.0339,-69.2984, -69.6963,-69.9608,-70.2259,-70.6194, -70.8821,-71.1447,-71.5374,-71.9301, -72.3218,-72.5829,-72.8441,-73.1081, -73.3633,-73.7529,-74.0119,-74.3991, -74.6585,-75.0424,-75.2976,-75.5526, -75.8077,-76.061,-76.439,-76.6904, -77.067,-77.3175,-77.5672,-77.9396, -78.1871,-78.4394,-78.6949,-78.9492, -79.2025,-79.4529,-79.8254,-80.0714, -80.3177,-80.6838,-80.805,-80.916)
FOOTPRINT_POINT_LONGITUDE = (45.7034,48.4485,51.2874,51.3418, 51.6447,52.2337,53.0587,53.5718,54.2925 ,54.7425,55.1719,55.5813,55.9648, 56.5128,56.8476,57.1662,57.4607,57.7551 ,58.0365,58.3075,58.5681,58.9407, 59.1771,59.4051,59.7309,59.9371,60.24, 60.5242,60.706,60.8816,61.1333,61.2955, 61.4538,61.6067,61.7543,61.967,62.1006, 62.2359,62.3655,62.4907,62.6709,62.8448 ,62.957,63.0658,63.1723,63.2761,63.3764 ,63.4744,63.5695,63.6164,63.6228, 61.9634,61.1052,61.0814,61.0731,60.9542 ,60.8329,60.7065,60.5772,60.4445, 60.2397,60.0978,59.9524,59.7228,59.5646 ,59.4019,59.1478,58.8824,58.6041, 58.4115,58.2133,58.0115,57.7948,57.4637 ,57.2333,56.8723,56.6228,56.2277, 55.9522,55.6671,55.3719,55.0646,54.5807 ,54.2427,53.7112,53.3394,52.9521, 52.3403,51.9109,51.4543,50.9671,50.4571 ,49.923,49.3622,48.4687,47.8355,47.1708 ,46.1079,45.7348,45.7034)
ORBIT_NUMBER = 2459
ORBITAL_ECCENTRICITY = 0.572
ORBITAL_INCLINATION = 86.63
ORBITAL_SEMIMAJOR_AXIS = 8533.91
PERIAPSIS_ALTITUDE = 274.45
PERIAPSIS_ARGUMENT_ANGLE = 286.05
PERIAPSIS_TIME = 2005-12-12T05:53:13.000Z
SPACECRAFT_ORIENTATION = (0.0,-1.0,0.0)
^MEX_ORIENTATION_DESC = "MEX_ORIENTATION_DESC.TXT"
SPACECRAFT_POINTING_MODE = ACROSSTRACK
^MEX_POINTING_DESC = "MEX_POINTING_DESC.TXT"
RIGHT_ASCENSION = -1e+32
DECLINATION = -1e+32
OFFSET_ANGLE = 0.23
SPACECRAFT_SOLAR_DISTANCE = 2.2522e+08
TARGET_NAME = MARS
/* CAMERA DATA ELEMENTS */
DETECTOR_TEMPERATURE = 17.1471
FOCAL_PLANE_TEMPERATURE = 8.7872
INST_CMPRS_NAME = "DISCRETE COSINE TRANSFORMATION (DCT)"
INST_CMPRS_RATIO = 9.94559
INST_CMPRS_QUALITY = 0
INST_CMPRS_QUANTZ_TBL_ID = 0
INSTRUMENT_TEMPERATURE = 11.234
LENS_TEMPERATURE = 8.9911
MACROPIXEL_SIZE = 4
MISSING_FRAMES = 0
PIXEL_SUBSAMPLING_FLAG = N
SIGNAL_CHAIN_ID = 2
/* RADIOMETRIC DATA ELEMENTS */
BANDWIDTH = 81.0
CENTER_FILTER_WAVELENGTH = 955.5
RADIANCE_OFFSET = 0.471577
RADIANCE_SCALING_FACTOR = 0.0031233
REFLECTANCE_SCALING_FACTOR = 0.000341785
MEX:REFLECTANCE_OFFSET = 0.0516051
/* IMAGE OBJECT DEFINITIONS */
OBJECT = IMAGE
  INTERCHANGE_FORMAT = BINARY
  LINES = 15693
  LINE_SAMPLES = 4558
  SAMPLE_TYPE = UNSIGNED_INTEGER
  SAMPLE_BITS = 8
  BANDS = 1
  BAND_STORAGE_TYPE = BAND_SEQUENTIAL
  MAXIMUM = 255
  MEAN = 122.296
  MINIMUM = 1
  STANDARD_DEVIATION = 45.882
END_OBJECT = IMAGE
/* MAP OBJECT DEFINITIONS */
OBJECT = IMAGE_MAP_PROJECTION
  ^DATA_SET_MAP_PROJECTION_CATALOG= "DSMAP.CAT"
  A_AXIS_RADIUS = 3396.0
  B_AXIS_RADIUS = 3396.0
  C_AXIS_RADIUS = 3396.0
  CENTER_LATITUDE = 0.0
  CENTER_LONGITUDE = 59.0
  COORDINATE_SYSTEM_NAME = PLANETOGRAPHIC
  COORDINATE_SYSTEM_TYPE = "BODY-FIXED ROTATING"
  EASTERNMOST_LONGITUDE = 63.6228
  FIRST_STANDARD_PARALLEL = "N/A"
  LINE_FIRST_PIXEL = 1
  LINE_LAST_PIXEL = 15693
  LINE_PROJECTION_OFFSET = -80582.125
  MAP_PROJECTION_ROTATION = 0.0
  MAP_PROJECTION_TYPE = SINUSOIDAL
  MAP_RESOLUTION = 1185.42760773333
  MAP_SCALE = 0.05
  MAXIMUM_LATITUDE = -67.9743
  MINIMUM_LATITUDE = -81.31319999999999
  POSITIVE_LONGITUDE_DIRECTION = EAST
  REFERENCE_LATITUDE = "N/A"
  REFERENCE_LONGITUDE = "N/A"
  SAMPLE_FIRST_PIXEL = 1
  SAMPLE_LAST_PIXEL = 4558
  SAMPLE_PROJECTION_OFFSET = 2505.125
  SECOND_STANDARD_PARALLEL = "N/A"
  WESTERNMOST_LONGITUDE = 45.7034
END_OBJECT = IMAGE_MAP_PROJECTION
END
