PDS_VERSION_ID = PDS3
/* FILE DATA ELEMENTS */
RECORD_TYPE = UNDEFINED
/* POINTERS TO DATA OBJECTS */
^IMAGE = ("H2454_0001_S14.TIF")
/* IDENTIFICATION DATA ELEMENTS */
DATA_SET_ID = "MEX-M-HRSC-4-REFDR-MAPPROJECT-EXT1-V4.0"
DATA_SET_NAME = "MARS EXPRESS HRSC MAP PROJECTED REFDR EXTENSION1 V4.0"
DETECTOR_ID = MEX_HRSC_S1
EVENT_TYPE = "MARS-REGIONAL-MAPPING-Te-Im"
INSTRUMENT_HOST_ID = MEX
INSTRUMENT_HOST_NAME = "MARS EXPRESS"
INSTRUMENT_ID = HRSC
INSTRUMENT_NAME = "HIGH RESOLUTION STEREO CAMERA"
MISSION_NAME = "MARS EXPRESS"
MISSION_PHASE_NAME = ME_Phase_1
PROCESSING_LEVEL_ID = 4
PRODUCT_CREATION_TIME = 2023-02-08T07:05:14.000Z
PRODUCT_ID = "H2454_0001_S14.TIF"
RELEASE_ID = 0001
REVISION_ID = 0000
/* QUALITY DATA ELEMENTS */
DATA_QUALITY_ID = 1
DATA_QUALITY_DESC = "Data calculated based on original SPICE kernels"
/* TIME DATA ELEMENTS */
SPACECRAFT_CLOCK_START_COUNT = "1/0082326192.57995"
SPACECRAFT_CLOCK_STOP_COUNT = "1/0082326416.40735"
START_TIME = 2005-12-10T20:23:19.730Z
STOP_TIME = 2005-12-10T20:25:30.514Z
/* ORBITAL DATA ELEMENTS */
ASCENDING_NODE_LONGITUDE = 176.74
MAXIMUM_RESOLUTION = 0.0298
FOOTPRINT_POINT_LATITUDE = (-50.7287,-50.7464,-50.7575,-50.7711, -50.7809,-50.7962,-50.7967,-50.7362, -50.508,-50.2805,-49.9766,-49.7494, -49.4455,-49.1333,-48.8284,-48.5691, -48.3887,-48.2054,-48.0234,-47.8424, -47.5718,-47.3912,-47.2118,-47.0282, -46.846,-46.6651,-46.4851,-46.2149, -46.0358,-45.8572,-45.6757,-45.404, -45.1338,-44.8656,-44.6854,-44.4153, -44.234,-44.0531,-43.8732,-43.6961, -43.4259,-43.1571,-42.9772,-42.7992, -42.6205,-42.3533,-42.1792,-42.09, -42.0457,-42.0371,-42.0299,-42.0185, -42.0089,-41.9995,-41.9864,-41.9857, -41.9859,-42.1643,-42.3486,-42.5324, -42.795,-42.9704,-43.1497,-43.4167, -43.5927,-43.7717,-44.0402,-44.2193, -44.3985,-44.5779,-44.7571,-44.9367, -45.2063,-45.3862,-45.5662,-45.7467, -45.9276,-46.1014,-46.2837,-46.5587, -46.7395,-46.9196,-47.1004,-47.2814, -47.4611,-47.6421,-47.9123,-48.0926, -48.2741,-48.4564,-48.6368,-48.7992, -49.1029,-49.3311,-49.6358,-49.941, -50.3241,-50.553,-50.6284,-50.7287)
FOOTPRINT_POINT_LONGITUDE = (196.413,196.815,197.089,197.454, 197.747,198.278,198.296,198.336,198.354 ,198.372,198.396,198.413,198.437, 198.464,198.487,198.506,198.518,198.532 ,198.546,198.558,198.577,198.589,198.6, 198.614,198.626,198.638,198.65,198.667, 198.678,198.688,198.7,198.717,198.733, 198.749,198.759,198.775,198.786,198.797 ,198.807,198.816,198.832,198.846, 198.856,198.865,198.874,198.888,198.895 ,198.9,198.902,198.546,198.249,197.932, 197.575,197.257,196.88,196.86,196.853, 196.848,196.845,196.841,196.831,196.824 ,196.818,196.808,196.8,196.794,196.783, 196.776,196.769,196.761,196.753,196.746 ,196.733,196.725,196.717,196.708,196.7, 196.688,196.68,196.667,196.657,196.647, 196.637,196.627,196.616,196.605,196.588 ,196.576,196.565,196.553,196.541,196.53 ,196.509,196.492,196.47,196.447,196.418 ,196.4,196.394,196.413)
ORBIT_NUMBER = 2454
ORBITAL_ECCENTRICITY = 0.572
ORBITAL_INCLINATION = 86.63
ORBITAL_SEMIMAJOR_AXIS = 8533.36
PERIAPSIS_ALTITUDE = 274.75
PERIAPSIS_ARGUMENT_ANGLE = 286.92
PERIAPSIS_TIME = 2005-12-10T20:18:15.000Z
SPACECRAFT_ORIENTATION = (0.0,-1.0,0.0)
^MEX_ORIENTATION_DESC = "MEX_ORIENTATION_DESC.TXT"
SPACECRAFT_POINTING_MODE = NADIR
^MEX_POINTING_DESC = "MEX_POINTING_DESC.TXT"
RIGHT_ASCENSION = -1e+32
DECLINATION = -1e+32
OFFSET_ANGLE = -1e+32
SPACECRAFT_SOLAR_DISTANCE = 2.24946e+08
TARGET_NAME = MARS
/* CAMERA DATA ELEMENTS */
DETECTOR_TEMPERATURE = 18.5744
FOCAL_PLANE_TEMPERATURE = 8.7872
INST_CMPRS_NAME = "DISCRETE COSINE TRANSFORMATION (DCT)"
INST_CMPRS_RATIO = 8.51786
INST_CMPRS_QUALITY = 0
INST_CMPRS_QUANTZ_TBL_ID = 0
INSTRUMENT_TEMPERATURE = 12.6613
LENS_TEMPERATURE = 7.3599
MACROPIXEL_SIZE = 2
MISSING_FRAMES = 0
PIXEL_SUBSAMPLING_FLAG = N
SIGNAL_CHAIN_ID = 1
/* RADIOMETRIC DATA ELEMENTS */
BANDWIDTH = 180.0
CENTER_FILTER_WAVELENGTH = 677.0
RADIANCE_OFFSET = 4.47159
RADIANCE_SCALING_FACTOR = 0.0160013
REFLECTANCE_SCALING_FACTOR = 0.000422432
MEX:REFLECTANCE_OFFSET = 0.11805
/* IMAGE OBJECT DEFINITIONS */
OBJECT = IMAGE
  INTERCHANGE_FORMAT = BINARY
  LINES = 20688
  LINE_SAMPLES = 4194
  SAMPLE_TYPE = UNSIGNED_INTEGER
  SAMPLE_BITS = 8
  BANDS = 1
  BAND_STORAGE_TYPE = BAND_SEQUENTIAL
  MAXIMUM = 255
  MEAN = 111.218
  MINIMUM = 1
  STANDARD_DEVIATION = 29.8408
END_OBJECT = IMAGE
/* MAP OBJECT DEFINITIONS */
OBJECT = IMAGE_MAP_PROJECTION
  ^DATA_SET_MAP_PROJECTION_CATALOG= "DSMAP.CAT"
  A_AXIS_RADIUS = 3396.0
  B_AXIS_RADIUS = 3396.0
  C_AXIS_RADIUS = 3396.0
  CENTER_LATITUDE = 0.0
  CENTER_LONGITUDE = 198.0
  COORDINATE_SYSTEM_NAME = PLANETOGRAPHIC
  COORDINATE_SYSTEM_TYPE = "BODY-FIXED ROTATING"
  EASTERNMOST_LONGITUDE = 198.902
  FIRST_STANDARD_PARALLEL = "N/A"
  LINE_FIRST_PIXEL = 1
  LINE_LAST_PIXEL = 20688
  LINE_PROJECTION_OFFSET = -99586.75
  MAP_PROJECTION_ROTATION = 0.0
  MAP_PROJECTION_TYPE = SINUSOIDAL
  MAP_RESOLUTION = 2370.85521546667
  MAP_SCALE = 0.025
  MAXIMUM_LATITUDE = -41.9857
  MINIMUM_LATITUDE = -50.7967
  POSITIVE_LONGITUDE_DIRECTION = EAST
  REFERENCE_LATITUDE = "N/A"
  REFERENCE_LONGITUDE = "N/A"
  SAMPLE_FIRST_PIXEL = 1
  SAMPLE_LAST_PIXEL = 4194
  SAMPLE_PROJECTION_OFFSET = 2495.25
  SECOND_STANDARD_PARALLEL = "N/A"
  WESTERNMOST_LONGITUDE = 196.394
END_OBJECT = IMAGE_MAP_PROJECTION
END
