PDS_VERSION_ID = PDS3
/* FILE DATA ELEMENTS */
RECORD_TYPE = UNDEFINED
/* POINTERS TO DATA OBJECTS */
^IMAGE = ("H2454_0001_BL4.TIF")
/* IDENTIFICATION DATA ELEMENTS */
DATA_SET_ID = "MEX-M-HRSC-4-REFDR-MAPPROJECT-EXT1-V4.0"
DATA_SET_NAME = "MARS EXPRESS HRSC MAP PROJECTED REFDR EXTENSION1 V4.0"
DETECTOR_ID = MEX_HRSC_BLUE
EVENT_TYPE = "MARS-REGIONAL-MAPPING-Te-Im"
INSTRUMENT_HOST_ID = MEX
INSTRUMENT_HOST_NAME = "MARS EXPRESS"
INSTRUMENT_ID = HRSC
INSTRUMENT_NAME = "HIGH RESOLUTION STEREO CAMERA"
MISSION_NAME = "MARS EXPRESS"
MISSION_PHASE_NAME = ME_Phase_1
PROCESSING_LEVEL_ID = 4
PRODUCT_CREATION_TIME = 2023-02-08T07:05:14.000Z
PRODUCT_ID = "H2454_0001_BL4.TIF"
RELEASE_ID = 0001
REVISION_ID = 0000
/* QUALITY DATA ELEMENTS */
DATA_QUALITY_ID = 1
DATA_QUALITY_DESC = "Data calculated based on original SPICE kernels"
/* TIME DATA ELEMENTS */
SPACECRAFT_CLOCK_START_COUNT = "1/0082326192.57995"
SPACECRAFT_CLOCK_STOP_COUNT = "1/0082326416.40735"
START_TIME = 2005-12-10T20:23:57.626Z
STOP_TIME = 2005-12-10T20:26:19.696Z
/* ORBITAL DATA ELEMENTS */
ASCENDING_NODE_LONGITUDE = 176.74
MAXIMUM_RESOLUTION = 0.0596
FOOTPRINT_POINT_LATITUDE = (-50.6558,-50.6788,-50.6918,-50.7013, -50.7137,-50.721,-50.7215,-50.7322, -50.4645,-50.2861,-50.108,-49.93, -49.752,-49.5744,-49.3972,-49.2212, -48.9563,-48.7797,-48.6028,-48.4264, -48.2504,-47.9869,-47.8112,-47.6356, -47.4603,-47.2849,-47.1104,-46.9361, -46.7617,-46.5875,-46.4132,-46.2393, -46.0653,-45.8915,-45.7181,-45.545, -45.2863,-45.1136,-44.9412,-44.7687, -44.5968,-44.3394,-43.9115,-43.6549, -43.3141,-42.9741,-42.6343,-42.2106, -42.126,-42.0436,-42.0398,-42.0336, -42.0277,-42.0183,-42.0076,-41.9986, -41.998,-41.9987,-42.4189,-42.6722, -43.0118,-43.3512,-43.7775,-44.1191, -44.4614,-44.8046,-44.9764,-45.1486, -45.3208,-45.4933,-45.7523,-45.9251, -46.0985,-46.2719,-46.4459,-46.6195, -46.7929,-46.9671,-47.1415,-47.3161, -47.4909,-47.6658,-47.841,-48.0165, -48.192,-48.3675,-48.5435,-48.7196, -48.8958,-49.0723,-49.2489,-49.4256, -49.6026,-49.7796,-49.9568,-50.1341, -50.3116,-50.4896,-50.5787,-50.6558)
FOOTPRINT_POINT_LONGITUDE = (196.359,196.951,197.321,197.617, 198.043,198.322,198.34,198.373,198.396, 198.41,198.425,198.439,198.453,198.467, 198.482,198.498,198.52,198.534,198.546, 198.559,198.573,198.593,198.606,198.618 ,198.631,198.642,198.655,198.668, 198.681,198.693,198.704,198.716,198.727 ,198.737,198.748,198.76,198.777,198.788 ,198.799,198.809,198.82,198.836,198.862 ,198.877,198.897,198.917,198.935, 198.957,198.961,198.966,198.66,198.249, 197.92,197.508,197.096,196.787,196.767, 196.76,196.752,196.745,196.733,196.723, 196.708,196.696,196.683,196.669,196.663 ,196.655,196.648,196.641,196.63,196.622 ,196.613,196.605,196.595,196.587,196.58 ,196.571,196.561,196.551,196.542, 196.532,196.521,196.511,196.5,196.49, 196.478,196.467,196.455,196.444,196.432 ,196.42,196.407,196.395,196.382,196.369 ,196.357,196.342,196.335,196.359)
ORBIT_NUMBER = 2454
ORBITAL_ECCENTRICITY = 0.572
ORBITAL_INCLINATION = 86.63
ORBITAL_SEMIMAJOR_AXIS = 8533.36
PERIAPSIS_ALTITUDE = 274.75
PERIAPSIS_ARGUMENT_ANGLE = 286.92
PERIAPSIS_TIME = 2005-12-10T20:18:15.000Z
SPACECRAFT_ORIENTATION = (0.0,-1.0,0.0)
^MEX_ORIENTATION_DESC = "MEX_ORIENTATION_DESC.TXT"
SPACECRAFT_POINTING_MODE = NADIR
^MEX_POINTING_DESC = "MEX_POINTING_DESC.TXT"
RIGHT_ASCENSION = -1e+32
DECLINATION = -1e+32
OFFSET_ANGLE = -1e+32
SPACECRAFT_SOLAR_DISTANCE = 2.24946e+08
TARGET_NAME = MARS
/* CAMERA DATA ELEMENTS */
DETECTOR_TEMPERATURE = 19.5939
FOCAL_PLANE_TEMPERATURE = 8.7872
INST_CMPRS_NAME = "DISCRETE COSINE TRANSFORMATION (DCT)"
INST_CMPRS_RATIO = 9.78927
INST_CMPRS_QUALITY = 0
INST_CMPRS_QUANTZ_TBL_ID = 0
INSTRUMENT_TEMPERATURE = 12.6613
LENS_TEMPERATURE = 7.3599
MACROPIXEL_SIZE = 4
MISSING_FRAMES = 0
PIXEL_SUBSAMPLING_FLAG = N
SIGNAL_CHAIN_ID = 2
/* RADIOMETRIC DATA ELEMENTS */
BANDWIDTH = 76.0
CENTER_FILTER_WAVELENGTH = 444.0
RADIANCE_OFFSET = 0.725802
RADIANCE_SCALING_FACTOR = 0.00167064
REFLECTANCE_SCALING_FACTOR = 8.68559e-05
MEX:REFLECTANCE_OFFSET = 0.0377341
/* IMAGE OBJECT DEFINITIONS */
OBJECT = IMAGE
  INTERCHANGE_FORMAT = BINARY
  LINES = 10344
  LINE_SAMPLES = 2097
  SAMPLE_TYPE = UNSIGNED_INTEGER
  SAMPLE_BITS = 8
  BANDS = 1
  BAND_STORAGE_TYPE = BAND_SEQUENTIAL
  MAXIMUM = 255
  MEAN = 140.957
  MINIMUM = 1
  STANDARD_DEVIATION = 18.7348
END_OBJECT = IMAGE
/* MAP OBJECT DEFINITIONS */
OBJECT = IMAGE_MAP_PROJECTION
  ^DATA_SET_MAP_PROJECTION_CATALOG= "DSMAP.CAT"
  A_AXIS_RADIUS = 3396.0
  B_AXIS_RADIUS = 3396.0
  C_AXIS_RADIUS = 3396.0
  CENTER_LATITUDE = 0.0
  CENTER_LONGITUDE = 198.0
  COORDINATE_SYSTEM_NAME = PLANETOGRAPHIC
  COORDINATE_SYSTEM_TYPE = "BODY-FIXED ROTATING"
  EASTERNMOST_LONGITUDE = 198.966
  FIRST_STANDARD_PARALLEL = "N/A"
  LINE_FIRST_PIXEL = 1
  LINE_LAST_PIXEL = 10344
  LINE_PROJECTION_OFFSET = -49793.625
  MAP_PROJECTION_ROTATION = 0.0
  MAP_PROJECTION_TYPE = SINUSOIDAL
  MAP_RESOLUTION = 1185.42760773333
  MAP_SCALE = 0.05
  MAXIMUM_LATITUDE = -41.998
  MINIMUM_LATITUDE = -50.7322
  POSITIVE_LONGITUDE_DIRECTION = EAST
  REFERENCE_LATITUDE = "N/A"
  REFERENCE_LONGITUDE = "N/A"
  SAMPLE_FIRST_PIXEL = 1
  SAMPLE_LAST_PIXEL = 2097
  SAMPLE_PROJECTION_OFFSET = 1247.375
  SECOND_STANDARD_PARALLEL = "N/A"
  WESTERNMOST_LONGITUDE = 196.335
END_OBJECT = IMAGE_MAP_PROJECTION
END
