PDS_VERSION_ID = PDS3
/* FILE DATA ELEMENTS */
RECORD_TYPE = UNDEFINED
/* POINTERS TO DATA OBJECTS */
^IMAGE = ("H2451_0002_BL4.TIF")
/* IDENTIFICATION DATA ELEMENTS */
DATA_SET_ID = "MEX-M-HRSC-4-REFDR-MAPPROJECT-EXT1-V4.0"
DATA_SET_NAME = "MARS EXPRESS HRSC MAP PROJECTED REFDR EXTENSION1 V4.0"
DETECTOR_ID = MEX_HRSC_BLUE
EVENT_TYPE = "MARS-TERMINATOR-CARTOGRAPHY-Ot-At"
INSTRUMENT_HOST_ID = MEX
INSTRUMENT_HOST_NAME = "MARS EXPRESS"
INSTRUMENT_ID = HRSC
INSTRUMENT_NAME = "HIGH RESOLUTION STEREO CAMERA"
MISSION_NAME = "MARS EXPRESS"
MISSION_PHASE_NAME = ME_Phase_1
PROCESSING_LEVEL_ID = 4
PRODUCT_CREATION_TIME = 2023-02-08T07:05:14.000Z
PRODUCT_ID = "H2451_0002_BL4.TIF"
RELEASE_ID = 0001
REVISION_ID = 0000
/* QUALITY DATA ELEMENTS */
DATA_QUALITY_ID = 1
DATA_QUALITY_DESC = "Data calculated based on original SPICE kernels"
/* TIME DATA ELEMENTS */
SPACECRAFT_CLOCK_START_COUNT = "1/0082254747.56203"
SPACECRAFT_CLOCK_STOP_COUNT = "1/0082255727.55950"
START_TIME = 2005-12-10T00:38:37.845Z
STOP_TIME = 2005-12-10T00:41:53.332Z
/* ORBITAL DATA ELEMENTS */
ASCENDING_NODE_LONGITUDE = 176.81
MAXIMUM_RESOLUTION = 0.3492
FOOTPRINT_POINT_LATITUDE = (11.4798,11.5191,11.5448,11.57,11.5948, 11.6191,11.643,11.6664,11.6894,11.712, 11.7397,11.7613,11.7824,11.8032,11.8235 ,11.8434,11.8628,11.8818,11.9004, 11.9186,11.9364,11.9538,11.9709,11.9875 ,12.0037,12.0194,12.0309,12.0347, 12.0305,12.4025,12.6137,12.824,13.0334, 13.2418,13.4492,13.6557,13.8612,14.0657 ,14.2694,14.4721,14.6739,14.8749,15.075 ,15.2738,15.472,15.8656,16.2557,16.6424 ,17.0255,17.0732,17.1121,17.0953, 17.0772,17.0489,17.029,17.0084,16.9871, 16.9652,16.9368,16.9134,16.8893,16.8707 ,16.8454,16.8192,16.7923,16.7647, 16.7363,16.7145,16.685,16.6545,16.6232, 16.5912,16.5585,16.5251,16.4908,16.4559 ,16.4109,16.4018,16.3981,16.0282, 15.6549,15.278,14.8976,14.5135,14.3201, 14.1258,13.9307,13.7345,13.5374,13.3394 ,13.1405,12.9406,12.7397,12.5378, 12.3349,12.1311,11.9264,11.566,11.5142, 11.4798)
FOOTPRINT_POINT_LONGITUDE = (127.628,128.061,128.35,128.638,128.926 ,129.213,129.501,129.788,130.075, 130.362,130.721,131.009,131.296,131.583 ,131.87,132.157,132.444,132.732,133.02, 133.308,133.596,133.885,134.175,134.465 ,134.755,135.046,135.264,135.337, 135.367,135.384,135.393,135.403,135.412 ,135.422,135.432,135.441,135.451, 135.462,135.472,135.482,135.492,135.502 ,135.512,135.523,135.533,135.555, 135.576,135.598,135.62,135.623,135.625, 135.291,134.951,134.44,134.1,133.761, 133.423,133.086,132.664,132.327,131.991 ,131.739,131.403,131.067,130.731, 130.394,130.058,129.806,129.471,129.135 ,128.799,128.462,128.126,127.789, 127.452,127.115,126.693,126.608,126.58, 126.664,126.749,126.832,126.916,126.999 ,127.04,127.081,127.123,127.163,127.204 ,127.245,127.286,127.327,127.368, 127.408,127.448,127.489,127.529,127.599 ,127.609,127.628)
ORBIT_NUMBER = 2451
ORBITAL_ECCENTRICITY = 0.572
ORBITAL_INCLINATION = 86.62
ORBITAL_SEMIMAJOR_AXIS = 8536.05
PERIAPSIS_ALTITUDE = 275.11
PERIAPSIS_ARGUMENT_ANGLE = 287.44
PERIAPSIS_TIME = 2005-12-10T00:09:17.000Z
SPACECRAFT_ORIENTATION = (0.0,-1.0,0.0)
^MEX_ORIENTATION_DESC = "MEX_ORIENTATION_DESC.TXT"
SPACECRAFT_POINTING_MODE = ACROSSTRACK
^MEX_POINTING_DESC = "MEX_POINTING_DESC.TXT"
RIGHT_ASCENSION = -1e+32
DECLINATION = -1e+32
OFFSET_ANGLE = -0.13
SPACECRAFT_SOLAR_DISTANCE = 2.24782e+08
TARGET_NAME = MARS
/* CAMERA DATA ELEMENTS */
DETECTOR_TEMPERATURE = 20.8173
FOCAL_PLANE_TEMPERATURE = 9.8067
INST_CMPRS_NAME = "DISCRETE COSINE TRANSFORMATION (DCT)"
INST_CMPRS_RATIO = 21.4842
INST_CMPRS_QUALITY = 0
INST_CMPRS_QUANTZ_TBL_ID = 0
INSTRUMENT_TEMPERATURE = 15.312
LENS_TEMPERATURE = 10.0106
MACROPIXEL_SIZE = 4
MISSING_FRAMES = 0
PIXEL_SUBSAMPLING_FLAG = N
SIGNAL_CHAIN_ID = 2
/* RADIOMETRIC DATA ELEMENTS */
BANDWIDTH = 76.0
CENTER_FILTER_WAVELENGTH = 444.0
RADIANCE_OFFSET = 0.831175
RADIANCE_SCALING_FACTOR = 0.00177462
REFLECTANCE_SCALING_FACTOR = 9.21294e-05
MEX:REFLECTANCE_OFFSET = 0.0431504
/* IMAGE OBJECT DEFINITIONS */
OBJECT = IMAGE
  INTERCHANGE_FORMAT = BINARY
  LINES = 829
  LINE_SAMPLES = 1215
  SAMPLE_TYPE = UNSIGNED_INTEGER
  SAMPLE_BITS = 8
  BANDS = 1
  BAND_STORAGE_TYPE = BAND_SEQUENTIAL
  MAXIMUM = 255
  MEAN = 180.886
  MINIMUM = 1
  STANDARD_DEVIATION = 15.9081
END_OBJECT = IMAGE
/* MAP OBJECT DEFINITIONS */
OBJECT = IMAGE_MAP_PROJECTION
  ^DATA_SET_MAP_PROJECTION_CATALOG= "DSMAP.CAT"
  A_AXIS_RADIUS = 3396.0
  B_AXIS_RADIUS = 3396.0
  C_AXIS_RADIUS = 3396.0
  CENTER_LATITUDE = 0.0
  CENTER_LONGITUDE = 131.0
  COORDINATE_SYSTEM_NAME = PLANETOGRAPHIC
  COORDINATE_SYSTEM_TYPE = "BODY-FIXED ROTATING"
  EASTERNMOST_LONGITUDE = 135.625
  FIRST_STANDARD_PARALLEL = "N/A"
  LINE_FIRST_PIXEL = 1
  LINE_LAST_PIXEL = 829
  LINE_PROJECTION_OFFSET = 2536.375
  MAP_PROJECTION_ROTATION = 0.0
  MAP_PROJECTION_TYPE = SINUSOIDAL
  MAP_RESOLUTION = 148.178450966667
  MAP_SCALE = 0.4
  MAXIMUM_LATITUDE = 17.1121
  MINIMUM_LATITUDE = 11.4798
  POSITIVE_LONGITUDE_DIRECTION = EAST
  REFERENCE_LATITUDE = "N/A"
  REFERENCE_LONGITUDE = "N/A"
  SAMPLE_FIRST_PIXEL = 1
  SAMPLE_LAST_PIXEL = 1215
  SAMPLE_PROJECTION_OFFSET = 590.375
  SECOND_STANDARD_PARALLEL = "N/A"
  WESTERNMOST_LONGITUDE = 126.58
END_OBJECT = IMAGE_MAP_PROJECTION
END
