PDS_VERSION_ID = PDS3
/* FILE DATA ELEMENTS */
RECORD_TYPE = UNDEFINED
/* POINTERS TO DATA OBJECTS */
^IMAGE = ("H2449_0004_SR4.TIF")
/* IDENTIFICATION DATA ELEMENTS */
DATA_SET_ID = "MEX-M-HRSC-4-REFDR-MAPPROJECT-EXT1-V4.0"
DATA_SET_NAME = "MARS EXPRESS HRSC MAP PROJECTED REFDR EXTENSION1 V4.0"
DETECTOR_ID = MEX_HRSC_SRC
EVENT_TYPE = "MARS-REGIONAL-MAPPING-Im-Fl-Gl"
INSTRUMENT_HOST_ID = MEX
INSTRUMENT_HOST_NAME = "MARS EXPRESS"
INSTRUMENT_ID = HRSC
INSTRUMENT_NAME = "HIGH RESOLUTION STEREO CAMERA"
MISSION_NAME = "MARS EXPRESS"
MISSION_PHASE_NAME = ME_Phase_1
PROCESSING_LEVEL_ID = 4
PRODUCT_CREATION_TIME = 2023-02-08T07:05:14.000Z
PRODUCT_ID = "H2449_0004_SR4.TIF"
RELEASE_ID = 0001
REVISION_ID = 0000
/* QUALITY DATA ELEMENTS */
DATA_QUALITY_ID = 1
DATA_QUALITY_DESC = "Data calculated based on original SPICE kernels"
/* TIME DATA ELEMENTS */
SPACECRAFT_CLOCK_START_COUNT = "1/0082205010.57156"
SPACECRAFT_CLOCK_STOP_COUNT = "1/0082205314.14751"
IMAGE_TIME = 2005-12-09T10:46:29.790Z
START_TIME = 2005-12-09T10:46:29.787Z
STOP_TIME = 2005-12-09T10:46:29.792Z
/* ORBITAL DATA ELEMENTS */
ASCENDING_NODE_LONGITUDE = 176.85
MAXIMUM_RESOLUTION = 0.002771
FOOTPRINT_POINT_LATITUDE = (-59.2275,-59.2298,-59.2321,-59.2342, -59.2356,-59.2376,-59.2394,-59.2409, -59.2425,-59.2449,-59.2465,-59.2491, -59.252,-59.2551,-59.2572,-59.2598, -59.2616,-59.2639,-59.2653,-59.2675, -59.2697,-59.2723,-59.2746,-59.2746, -59.2746,-59.2743,-59.2742,-59.274, -59.2738,-59.2736,-59.2735,-59.2732, -59.273,-59.2729,-59.2727,-59.2725, -59.2723,-59.2722,-59.272,-59.2719, -59.2717,-59.2716,-59.2715,-59.2713, -59.2712,-59.271,-59.2709,-59.2707, -59.2707,-59.2706,-59.2678,-59.266, -59.2632,-59.2615,-59.2584,-59.2569, -59.2554,-59.253,-59.2513,-59.2481, -59.2447,-59.2425,-59.2397,-59.2381, -59.2362,-59.2336,-59.2319,-59.2292, -59.2259,-59.2236,-59.2235,-59.2235, -59.2238,-59.2239,-59.2241,-59.2243, -59.2244,-59.2245,-59.2246,-59.2248, -59.225,-59.2251,-59.2252,-59.2254, -59.2256,-59.2257,-59.2259,-59.226, -59.2262,-59.2263,-59.2264,-59.2266, -59.2267,-59.2268,-59.2269,-59.2271, -59.2272,-59.2274,-59.2275,-59.2275)
FOOTPRINT_POINT_LONGITUDE = (327.547,327.547,327.547,327.546, 327.546,327.546,327.546,327.545,327.545 ,327.545,327.544,327.544,327.544, 327.543,327.543,327.542,327.542,327.542 ,327.541,327.541,327.541,327.54,327.54, 327.54,327.54,327.533,327.53,327.525, 327.521,327.517,327.513,327.507,327.503 ,327.499,327.496,327.489,327.486, 327.483,327.479,327.476,327.472,327.469 ,327.467,327.463,327.46,327.456,327.453 ,327.448,327.447,327.447,327.447, 327.448,327.448,327.448,327.449,327.449 ,327.449,327.45,327.45,327.45,327.451, 327.451,327.452,327.452,327.452,327.453 ,327.453,327.454,327.454,327.455, 327.455,327.455,327.46,327.464,327.468, 327.472,327.475,327.477,327.48,327.484, 327.488,327.491,327.494,327.498,327.503 ,327.506,327.509,327.512,327.516, 327.519,327.521,327.525,327.528,327.531 ,327.534,327.537,327.541,327.546, 327.547,327.547)
ORBIT_NUMBER = 2449
ORBITAL_ECCENTRICITY = 0.572
ORBITAL_INCLINATION = 86.64
ORBITAL_SEMIMAJOR_AXIS = 8533.17
PERIAPSIS_ALTITUDE = 274.91
PERIAPSIS_ARGUMENT_ANGLE = 287.8
PERIAPSIS_TIME = 2005-12-09T10:43:19.000Z
SPACECRAFT_ORIENTATION = (0.0,-1.0,0.0)
^MEX_ORIENTATION_DESC = "MEX_ORIENTATION_DESC.TXT"
SPACECRAFT_POINTING_MODE = NADIR
^MEX_POINTING_DESC = "MEX_POINTING_DESC.TXT"
RIGHT_ASCENSION = -1e+32
DECLINATION = -1e+32
OFFSET_ANGLE = -1e+32
SPACECRAFT_SOLAR_DISTANCE = 2.24673e+08
TARGET_NAME = MARS
/* CAMERA DATA ELEMENTS */
BUFFER_MODE_ID = BUFFER_8
EXPOSURE_DURATION = 5.04
INST_CMPRS_NAME = NONE
INST_CMPRS_RATIO = 1.0
INST_CMPRS_QUALITY = -2147483648
INST_CMPRS_QUANTZ_TBL_ID = -2147483648
INSTRUMENT_TEMPERATURE = 10.4453
MISSING_FRAMES = 0
START_BIT = 0
/* RADIOMETRIC DATA ELEMENTS */
BANDWIDTH = 250.0
CENTER_FILTER_WAVELENGTH = 600.0
RADIANCE_OFFSET = -9.99e+31
RADIANCE_SCALING_FACTOR = -9.99e+31
REFLECTANCE_SCALING_FACTOR = -9.99e+31
MEX:REFLECTANCE_OFFSET = -9.99e+31
/* IMAGE OBJECT DEFINITIONS */
OBJECT = IMAGE
  INTERCHANGE_FORMAT = BINARY
  LINES = 1310
  LINE_SAMPLES = 1329
  SAMPLE_TYPE = UNSIGNED_INTEGER
  SAMPLE_BITS = 8
  BANDS = 1
  BAND_STORAGE_TYPE = BAND_SEQUENTIAL
  MAXIMUM = 249
  MEAN = 133.48
  MINIMUM = 12
  STANDARD_DEVIATION = 27.0386
END_OBJECT = IMAGE
/* MAP OBJECT DEFINITIONS */
OBJECT = IMAGE_MAP_PROJECTION
  ^DATA_SET_MAP_PROJECTION_CATALOG= "DSMAP.CAT"
  A_AXIS_RADIUS = 3396.19
  B_AXIS_RADIUS = 3396.19
  C_AXIS_RADIUS = 3396.19
  CENTER_LATITUDE = 0.0
  CENTER_LONGITUDE = 327.0
  COORDINATE_SYSTEM_NAME = PLANETOGRAPHIC
  COORDINATE_SYSTEM_TYPE = "BODY-FIXED ROTATING"
  EASTERNMOST_LONGITUDE = 327.547
  FIRST_STANDARD_PARALLEL = "N/A"
  LINE_FIRST_PIXEL = 1
  LINE_LAST_PIXEL = 1310
  LINE_PROJECTION_OFFSET = -1401762.0
  MAP_PROJECTION_ROTATION = 0.0
  MAP_PROJECTION_TYPE = SINUSOIDAL
  MAP_RESOLUTION = 23709.8786048756
  MAP_SCALE = 0.0025
  MAXIMUM_LATITUDE = -59.2235
  MINIMUM_LATITUDE = -59.2746
  POSITIVE_LONGITUDE_DIRECTION = EAST
  REFERENCE_LATITUDE = "N/A"
  REFERENCE_LONGITUDE = "N/A"
  SAMPLE_FIRST_PIXEL = 1
  SAMPLE_LAST_PIXEL = 1329
  SAMPLE_PROJECTION_OFFSET = -5334.0
  SECOND_STANDARD_PARALLEL = "N/A"
  WESTERNMOST_LONGITUDE = 327.447
END_OBJECT = IMAGE_MAP_PROJECTION
END
