PDS_VERSION_ID = PDS3
/* FILE DATA ELEMENTS */
RECORD_TYPE = UNDEFINED
/* POINTERS TO DATA OBJECTS */
^IMAGE = ("H2449_0000_ND4.TIF")
/* IDENTIFICATION DATA ELEMENTS */
DATA_SET_ID = "MEX-M-HRSC-4-REFDR-MAPPROJECT-EXT1-V4.0"
DATA_SET_NAME = "MARS EXPRESS HRSC MAP PROJECTED REFDR EXTENSION1 V4.0"
DETECTOR_ID = MEX_HRSC_NADIR
EVENT_TYPE = "MARS-REGIONAL-MAPPING-Im-Fl-Gl"
INSTRUMENT_HOST_ID = MEX
INSTRUMENT_HOST_NAME = "MARS EXPRESS"
INSTRUMENT_ID = HRSC
INSTRUMENT_NAME = "HIGH RESOLUTION STEREO CAMERA"
MISSION_NAME = "MARS EXPRESS"
MISSION_PHASE_NAME = ME_Phase_1
PROCESSING_LEVEL_ID = 4
PRODUCT_CREATION_TIME = 2023-02-08T07:05:14.000Z
PRODUCT_ID = "H2449_0000_ND4.TIF"
RELEASE_ID = 0001
REVISION_ID = 0000
/* QUALITY DATA ELEMENTS */
DATA_QUALITY_ID = 1
DATA_QUALITY_DESC = "Data calculated based on original SPICE kernels"
/* TIME DATA ELEMENTS */
SPACECRAFT_CLOCK_START_COUNT = "1/0082205010.57156"
SPACECRAFT_CLOCK_STOP_COUNT = "1/0082205314.14751"
START_TIME = 2005-12-09T10:44:01.491Z
STOP_TIME = 2005-12-09T10:48:06.468Z
/* ORBITAL DATA ELEMENTS */
ASCENDING_NODE_LONGITUDE = 176.85
MAXIMUM_RESOLUTION = 0.0109
FOOTPRINT_POINT_LATITUDE = (-69.0154,-69.1432,-69.1443,-69.149, -68.6929,-68.3888,-68.0848,-67.7807, -67.4767,-67.1727,-66.8687,-66.5648, -66.261,-65.9572,-65.3498,-64.7429, -64.1363,-63.8263,-63.5112,-63.1964, -62.8816,-62.5673,-62.2529,-61.9387, -61.6246,-61.3106,-60.9963,-60.6728, -60.3482,-60.023,-59.6982,-59.3735, -59.0494,-58.7255,-58.2235,-57.8883, -57.5534,-57.2187,-56.8845,-56.5419, -56.1965,-55.8515,-55.5075,-55.1634, -54.8091,-54.4541,-54.0994,-53.7453, -53.2005,-53.0182,-53.0152,-52.9817, -52.9445,-52.9436,-52.9434,-53.3073, -53.6687,-54.0221,-54.3757,-54.7299, -55.0834,-55.4267,-55.7703,-56.1143, -56.4588,-56.8005,-57.1336,-57.4671, -57.801,-58.1352,-58.6359,-58.9589, -59.2821,-59.6054,-59.929,-60.253, -60.5772,-60.8997,-61.2123,-61.525, -61.8378,-62.1509,-62.6204,-62.9339, -63.2476,-63.5612,-64.0267,-64.6304, -65.2343,-65.8384,-66.4426,-67.0468, -67.3489,-67.651,-67.953,-68.2551, -68.5567,-68.8585,-69.0096,-69.0154)
FOOTPRINT_POINT_LONGITUDE = (323.684,326.153,326.178,326.264,326.42 ,326.52,326.617,326.711,326.803,326.892 ,326.978,327.062,327.144,327.223, 327.375,327.52,327.656,327.724,327.79, 327.857,327.92,327.987,328.048,328.107, 328.164,328.217,328.261,328.316,328.381 ,328.431,328.482,328.528,328.579, 328.627,328.699,328.745,328.789,328.829 ,328.872,328.916,328.957,328.998, 329.047,329.087,329.123,329.164,329.2, 329.237,329.292,329.31,329.31,328.266, 327.341,327.321,327.311,327.271,327.232 ,327.198,327.156,327.114,327.078,327.04 ,326.995,326.95,326.904,326.854,326.802 ,326.751,326.699,326.646,326.568, 326.515,326.457,326.396,326.331,326.273 ,326.209,326.145,326.08,326.013,325.943 ,325.873,325.754,325.678,325.605, 325.523,325.397,325.225,325.043,324.848 ,324.643,324.424,324.31,324.192,324.07, 323.946,323.809,323.676,323.611, 323.684)
ORBIT_NUMBER = 2449
ORBITAL_ECCENTRICITY = 0.572
ORBITAL_INCLINATION = 86.64
ORBITAL_SEMIMAJOR_AXIS = 8533.17
PERIAPSIS_ALTITUDE = 274.91
PERIAPSIS_ARGUMENT_ANGLE = 287.8
PERIAPSIS_TIME = 2005-12-09T10:43:19.000Z
SPACECRAFT_ORIENTATION = (0.0,-1.0,0.0)
^MEX_ORIENTATION_DESC = "MEX_ORIENTATION_DESC.TXT"
SPACECRAFT_POINTING_MODE = NADIR
^MEX_POINTING_DESC = "MEX_POINTING_DESC.TXT"
RIGHT_ASCENSION = -1e+32
DECLINATION = -1e+32
OFFSET_ANGLE = -1e+32
SPACECRAFT_SOLAR_DISTANCE = 2.24673e+08
TARGET_NAME = MARS
/* CAMERA DATA ELEMENTS */
DETECTOR_TEMPERATURE = 17.9627
FOCAL_PLANE_TEMPERATURE = 8.5833
INST_CMPRS_NAME = "DISCRETE COSINE TRANSFORMATION (DCT)"
INST_CMPRS_RATIO = 6.80813
INST_CMPRS_QUALITY = 0
INST_CMPRS_QUANTZ_TBL_ID = 0
INSTRUMENT_TEMPERATURE = 10.6223
LENS_TEMPERATURE = 8.5833
MACROPIXEL_SIZE = 1
MISSING_FRAMES = 2
PIXEL_SUBSAMPLING_FLAG = N
SIGNAL_CHAIN_ID = 0
/* RADIOMETRIC DATA ELEMENTS */
BANDWIDTH = 177.0
CENTER_FILTER_WAVELENGTH = 677.5
RADIANCE_OFFSET = 2.9157
RADIANCE_SCALING_FACTOR = 0.0278454
REFLECTANCE_SCALING_FACTOR = 0.000746688
MEX:REFLECTANCE_OFFSET = 0.0781858
/* IMAGE OBJECT DEFINITIONS */
OBJECT = IMAGE
  INTERCHANGE_FORMAT = BINARY
  LINES = 76844
  LINE_SAMPLES = 12347
  SAMPLE_TYPE = UNSIGNED_INTEGER
  SAMPLE_BITS = 8
  BANDS = 1
  BAND_STORAGE_TYPE = BAND_SEQUENTIAL
  MAXIMUM = 254
  MEAN = 62.3441
  MINIMUM = 1
  STANDARD_DEVIATION = 20.7784
END_OBJECT = IMAGE
/* MAP OBJECT DEFINITIONS */
OBJECT = IMAGE_MAP_PROJECTION
  ^DATA_SET_MAP_PROJECTION_CATALOG= "DSMAP.CAT"
  A_AXIS_RADIUS = 3396.0
  B_AXIS_RADIUS = 3396.0
  C_AXIS_RADIUS = 3396.0
  CENTER_LATITUDE = 0.0
  CENTER_LONGITUDE = 327.0
  COORDINATE_SYSTEM_NAME = PLANETOGRAPHIC
  COORDINATE_SYSTEM_TYPE = "BODY-FIXED ROTATING"
  EASTERNMOST_LONGITUDE = 329.31
  FIRST_STANDARD_PARALLEL = "N/A"
  LINE_FIRST_PIXEL = 1
  LINE_LAST_PIXEL = 76844
  LINE_PROJECTION_OFFSET = -251043.0
  MAP_PROJECTION_ROTATION = 0.0
  MAP_PROJECTION_TYPE = SINUSOIDAL
  MAP_RESOLUTION = 4741.71043093333
  MAP_SCALE = 0.0125
  MAXIMUM_LATITUDE = -52.9434
  MINIMUM_LATITUDE = -69.149
  POSITIVE_LONGITUDE_DIRECTION = EAST
  REFERENCE_LATITUDE = "N/A"
  REFERENCE_LONGITUDE = "N/A"
  SAMPLE_FIRST_PIXEL = 1
  SAMPLE_LAST_PIXEL = 12347
  SAMPLE_PROJECTION_OFFSET = 5755.0
  SECOND_STANDARD_PARALLEL = "N/A"
  WESTERNMOST_LONGITUDE = 323.611
END_OBJECT = IMAGE_MAP_PROJECTION
END
