PDS_VERSION_ID = PDS3
/* FILE DATA ELEMENTS */
RECORD_TYPE = UNDEFINED
/* POINTERS TO DATA OBJECTS */
^IMAGE = ("H2445_0000_S24.TIF")
/* IDENTIFICATION DATA ELEMENTS */
DATA_SET_ID = "MEX-M-HRSC-4-REFDR-MAPPROJECT-EXT1-V4.0"
DATA_SET_NAME = "MARS EXPRESS HRSC MAP PROJECTED REFDR EXTENSION1 V4.0"
DETECTOR_ID = MEX_HRSC_S2
EVENT_TYPE = "MARS-LOCAL-STEREO-Gl-Pf-Ts"
INSTRUMENT_HOST_ID = MEX
INSTRUMENT_HOST_NAME = "MARS EXPRESS"
INSTRUMENT_ID = HRSC
INSTRUMENT_NAME = "HIGH RESOLUTION STEREO CAMERA"
MISSION_NAME = "MARS EXPRESS"
MISSION_PHASE_NAME = ME_Phase_1
PROCESSING_LEVEL_ID = 4
PRODUCT_CREATION_TIME = 2023-02-08T07:05:14.000Z
PRODUCT_ID = "H2445_0000_S24.TIF"
RELEASE_ID = 0001
REVISION_ID = 0000
/* QUALITY DATA ELEMENTS */
DATA_QUALITY_ID = 1
DATA_QUALITY_DESC = "Data calculated based on original SPICE kernels"
/* TIME DATA ELEMENTS */
SPACECRAFT_CLOCK_START_COUNT = "1/0082108132.57942"
SPACECRAFT_CLOCK_STOP_COUNT = "1/0082108365.16071"
START_TIME = 2005-12-08T07:49:50.657Z
STOP_TIME = 2005-12-08T07:52:50.123Z
/* ORBITAL DATA ELEMENTS */
ASCENDING_NODE_LONGITUDE = 176.94
MAXIMUM_RESOLUTION = 0.0231
FOOTPRINT_POINT_LATITUDE = (-78.6872,-78.7964,-78.8692,-78.9535, -78.9558,-79.0594,-78.8233,-78.4691, -78.2322,-77.9997,-77.7584,-77.5216, -77.1647,-76.8085,-76.5699,-76.3331, -76.0956,-75.7383,-75.5,-75.2612, -75.0239,-74.7857,-74.4289,-74.1901, -73.8328,-73.5946,-73.3568,-73.1198, -72.8851,-72.6472,-72.4073,-72.0484, -71.8111,-71.4546,-71.2165,-70.9794, -70.7409,-70.5048,-70.2659,-69.9109, -69.6737,-69.4367,-69.2004,-68.9638, -68.6087,-68.254,-68.0182,-67.7818, -67.5461,-67.3111,-67.1937,-67.1776, -67.1279,-67.0577,-67.0564,-67.0563, -67.5217,-67.756,-67.9907,-68.3426, -68.577,-68.8112,-69.0457,-69.281, -69.5144,-69.7508,-69.9873,-70.34, -70.6934,-70.9294,-71.2824,-71.5178, -71.7526,-71.9861,-72.3445,-72.6973, -72.9329,-73.2819,-73.6343,-73.8691, -74.107,-74.3404,-74.5745,-74.9251, -75.2775,-75.6301,-75.9777,-76.2105, -76.4429,-76.6769,-76.9091,-77.1422, -77.3736,-77.6059,-77.8363,-78.1824, -78.4123,-78.6412,-78.7552,-78.6872)
FOOTPRINT_POINT_LONGITUDE = (347.687,349.397,350.642,352.223, 352.268,352.304,352.616,353.061,353.343 ,353.614,353.872,354.121,354.477, 354.813,355.027,355.233,355.433,355.718 ,355.9,356.076,356.247,356.412,356.65, 356.801,357.021,357.161,357.298,357.431 ,357.561,357.686,357.806,357.981, 358.094,358.258,358.363,358.466,358.565 ,358.663,358.757,358.895,358.984, 359.071,359.156,359.238,359.358,359.474 ,359.549,359.622,359.694,359.764, 359.798,359.803,358.689,357.337,357.313 ,357.304,357.129,357.036,356.94,356.792 ,356.691,356.587,356.481,356.37,356.26, 356.142,356.021,355.836,355.643,355.509 ,355.303,355.16,355.014,354.866,354.622 ,354.376,354.205,353.947,353.67,353.478 ,353.272,353.07,352.859,352.53,352.178, 351.807,351.427,351.159,350.881,350.588 ,350.288,349.973,349.649,349.309,348.96 ,348.405,348.017,347.614,347.407, 347.687)
ORBIT_NUMBER = 2445
ORBITAL_ECCENTRICITY = 0.572
ORBITAL_INCLINATION = 86.63
ORBITAL_SEMIMAJOR_AXIS = 8535.09
PERIAPSIS_ALTITUDE = 274.86
PERIAPSIS_ARGUMENT_ANGLE = 288.47
PERIAPSIS_TIME = 2005-12-08T07:51:24.000Z
SPACECRAFT_ORIENTATION = (0.0,-1.0,0.0)
^MEX_ORIENTATION_DESC = "MEX_ORIENTATION_DESC.TXT"
SPACECRAFT_POINTING_MODE = NADIR
^MEX_POINTING_DESC = "MEX_POINTING_DESC.TXT"
RIGHT_ASCENSION = -1e+32
DECLINATION = -1e+32
OFFSET_ANGLE = -1e+32
SPACECRAFT_SOLAR_DISTANCE = 2.24454e+08
TARGET_NAME = MARS
/* CAMERA DATA ELEMENTS */
DETECTOR_TEMPERATURE = 18.1666
FOCAL_PLANE_TEMPERATURE = 8.9911
INST_CMPRS_NAME = "DISCRETE COSINE TRANSFORMATION (DCT)"
INST_CMPRS_RATIO = 14.9847
INST_CMPRS_QUALITY = 0
INST_CMPRS_QUANTZ_TBL_ID = 0
INSTRUMENT_TEMPERATURE = 11.0301
LENS_TEMPERATURE = 8.3794
MACROPIXEL_SIZE = 2
MISSING_FRAMES = 0
PIXEL_SUBSAMPLING_FLAG = N
SIGNAL_CHAIN_ID = 1
/* RADIOMETRIC DATA ELEMENTS */
BANDWIDTH = 178.0
CENTER_FILTER_WAVELENGTH = 679.0
RADIANCE_OFFSET = 2.70925
RADIANCE_SCALING_FACTOR = 0.0110967
REFLECTANCE_SCALING_FACTOR = 0.000296059
MEX:REFLECTANCE_OFFSET = 0.0722826
/* IMAGE OBJECT DEFINITIONS */
OBJECT = IMAGE
  INTERCHANGE_FORMAT = BINARY
  LINES = 28499
  LINE_SAMPLES = 7479
  SAMPLE_TYPE = UNSIGNED_INTEGER
  SAMPLE_BITS = 8
  BANDS = 1
  BAND_STORAGE_TYPE = BAND_SEQUENTIAL
  MAXIMUM = 255
  MEAN = 138.031
  MINIMUM = 1
  STANDARD_DEVIATION = 31.8411
END_OBJECT = IMAGE
/* MAP OBJECT DEFINITIONS */
OBJECT = IMAGE_MAP_PROJECTION
  ^DATA_SET_MAP_PROJECTION_CATALOG= "DSMAP.CAT"
  A_AXIS_RADIUS = 3396.0
  B_AXIS_RADIUS = 3396.0
  C_AXIS_RADIUS = 3396.0
  CENTER_LATITUDE = 0.0
  CENTER_LONGITUDE = 356.0
  COORDINATE_SYSTEM_NAME = PLANETOGRAPHIC
  COORDINATE_SYSTEM_TYPE = "BODY-FIXED ROTATING"
  EASTERNMOST_LONGITUDE = 359.803
  FIRST_STANDARD_PARALLEL = "N/A"
  LINE_FIRST_PIXEL = 1
  LINE_LAST_PIXEL = 28499
  LINE_PROJECTION_OFFSET = -158991.75
  MAP_PROJECTION_ROTATION = 0.0
  MAP_PROJECTION_TYPE = SINUSOIDAL
  MAP_RESOLUTION = 2370.85521546667
  MAP_SCALE = 0.025
  MAXIMUM_LATITUDE = -67.05629999999999
  MINIMUM_LATITUDE = -79.0594
  POSITIVE_LONGITUDE_DIRECTION = EAST
  REFERENCE_LATITUDE = "N/A"
  REFERENCE_LONGITUDE = "N/A"
  SAMPLE_FIRST_PIXEL = 1
  SAMPLE_LAST_PIXEL = 7479
  SAMPLE_PROJECTION_OFFSET = 4010.75
  SECOND_STANDARD_PARALLEL = "N/A"
  WESTERNMOST_LONGITUDE = 347.407
END_OBJECT = IMAGE_MAP_PROJECTION
END
