PDS_VERSION_ID = PDS3
/* FILE DATA ELEMENTS */
RECORD_TYPE = UNDEFINED
/* POINTERS TO DATA OBJECTS */
^IMAGE = ("H2445_0000_P14.TIF")
/* IDENTIFICATION DATA ELEMENTS */
DATA_SET_ID = "MEX-M-HRSC-4-REFDR-MAPPROJECT-EXT1-V4.0"
DATA_SET_NAME = "MARS EXPRESS HRSC MAP PROJECTED REFDR EXTENSION1 V4.0"
DETECTOR_ID = MEX_HRSC_P1
EVENT_TYPE = "MARS-LOCAL-STEREO-Gl-Pf-Ts"
INSTRUMENT_HOST_ID = MEX
INSTRUMENT_HOST_NAME = "MARS EXPRESS"
INSTRUMENT_ID = HRSC
INSTRUMENT_NAME = "HIGH RESOLUTION STEREO CAMERA"
MISSION_NAME = "MARS EXPRESS"
MISSION_PHASE_NAME = ME_Phase_1
PROCESSING_LEVEL_ID = 4
PRODUCT_CREATION_TIME = 2023-02-08T07:05:14.000Z
PRODUCT_ID = "H2445_0000_P14.TIF"
RELEASE_ID = 0001
REVISION_ID = 0000
/* QUALITY DATA ELEMENTS */
DATA_QUALITY_ID = 1
DATA_QUALITY_DESC = "Data calculated based on original SPICE kernels"
/* TIME DATA ELEMENTS */
SPACECRAFT_CLOCK_START_COUNT = "1/0082108132.57942"
SPACECRAFT_CLOCK_STOP_COUNT = "1/0082108365.16071"
START_TIME = 2005-12-08T07:49:08.862Z
STOP_TIME = 2005-12-08T07:52:10.141Z
/* ORBITAL DATA ELEMENTS */
ASCENDING_NODE_LONGITUDE = 176.94
MAXIMUM_RESOLUTION = 0.0223
FOOTPRINT_POINT_LATITUDE = (-78.862,-79.033,-79.1462,-79.1487, -79.0948,-78.8571,-78.6186,-78.38, -78.018,-77.6602,-77.4196,-77.058, -76.8162,-76.5768,-76.343,-75.9925, -75.7585,-75.407,-75.0546,-74.8195, -74.584,-74.3484,-74.1124,-73.758, -73.5212,-73.2842,-73.0448,-72.8071, -72.5698,-72.3343,-71.9775,-71.7393, -71.5006,-71.2625,-71.0236,-70.7854, -70.5458,-70.3073,-70.0676,-69.8284, -69.589,-69.3492,-69.1093,-68.7496, -68.3898,-68.029,-67.789,-67.5482, -67.3075,-67.1868,-67.1832,-67.1392, -67.1038,-67.0597,-67.0583,-67.0582, -67.2977,-67.5381,-67.777,-68.0152, -68.2547,-68.4921,-68.7305,-69.088, -69.3257,-69.5642,-69.8011,-70.037, -70.2742,-70.6292,-70.983,-71.2193, -71.4551,-71.6911,-71.9277,-72.2771, -72.5115,-72.8626,-73.097,-73.45, -73.6831,-74.147,-74.3797,-74.6115, -74.8436,-75.1895,-75.6479,-75.8795, -76.3373,-76.5713,-76.8074,-77.043, -77.2778,-77.6288,-77.8625,-78.0952, -78.4423,-78.6733,-78.7888,-78.862)
FOOTPRINT_POINT_LONGITUDE = (347.281,349.942,352.013,352.061, 352.315,352.628,352.929,353.216,353.637 ,354.014,354.26,354.61,354.833,355.046, 355.247,355.535,355.719,355.983,356.236 ,356.397,356.554,356.705,356.853, 357.065,357.203,357.336,357.47,357.597, 357.718,357.832,358.004,358.115,358.223 ,358.328,358.431,358.529,358.628, 358.721,358.815,358.904,358.992,359.078 ,359.162,359.284,359.401,359.516, 359.589,359.661,359.732,359.767,359.768 ,358.82,358.134,357.356,357.332,357.324 ,357.233,357.14,357.044,356.945,356.845 ,356.741,356.635,356.471,356.358, 356.243,356.124,356.001,355.875,355.681 ,355.478,355.339,355.195,355.048, 354.897,354.66,354.497,354.243,354.069, 353.799,353.61,353.215,353.009,352.796, 352.577,352.234,351.749,351.496,350.961 ,350.671,350.367,350.051,349.724, 349.209,348.849,348.474,347.884,347.47, 347.256,347.281)
ORBIT_NUMBER = 2445
ORBITAL_ECCENTRICITY = 0.572
ORBITAL_INCLINATION = 86.63
ORBITAL_SEMIMAJOR_AXIS = 8535.09
PERIAPSIS_ALTITUDE = 274.86
PERIAPSIS_ARGUMENT_ANGLE = 288.47
PERIAPSIS_TIME = 2005-12-08T07:51:24.000Z
SPACECRAFT_ORIENTATION = (0.0,-1.0,0.0)
^MEX_ORIENTATION_DESC = "MEX_ORIENTATION_DESC.TXT"
SPACECRAFT_POINTING_MODE = NADIR
^MEX_POINTING_DESC = "MEX_POINTING_DESC.TXT"
RIGHT_ASCENSION = -1e+32
DECLINATION = -1e+32
OFFSET_ANGLE = -1e+32
SPACECRAFT_SOLAR_DISTANCE = 2.24454e+08
TARGET_NAME = MARS
/* CAMERA DATA ELEMENTS */
DETECTOR_TEMPERATURE = 16.9432
FOCAL_PLANE_TEMPERATURE = 8.9911
INST_CMPRS_NAME = "DISCRETE COSINE TRANSFORMATION (DCT)"
INST_CMPRS_RATIO = 18.6026
INST_CMPRS_QUALITY = 0
INST_CMPRS_QUANTZ_TBL_ID = 0
INSTRUMENT_TEMPERATURE = 11.0301
LENS_TEMPERATURE = 8.3794
MACROPIXEL_SIZE = 2
MISSING_FRAMES = 0
PIXEL_SUBSAMPLING_FLAG = N
SIGNAL_CHAIN_ID = 3
/* RADIOMETRIC DATA ELEMENTS */
BANDWIDTH = 174.0
CENTER_FILTER_WAVELENGTH = 675.0
RADIANCE_OFFSET = 2.72472
RADIANCE_SCALING_FACTOR = 0.00992195
REFLECTANCE_SCALING_FACTOR = 0.000268867
MEX:REFLECTANCE_OFFSET = 0.0738349
/* IMAGE OBJECT DEFINITIONS */
OBJECT = IMAGE
  INTERCHANGE_FORMAT = BINARY
  LINES = 28499
  LINE_SAMPLES = 7479
  SAMPLE_TYPE = UNSIGNED_INTEGER
  SAMPLE_BITS = 8
  BANDS = 1
  BAND_STORAGE_TYPE = BAND_SEQUENTIAL
  MAXIMUM = 255
  MEAN = 134.562
  MINIMUM = 1
  STANDARD_DEVIATION = 26.8473
END_OBJECT = IMAGE
/* MAP OBJECT DEFINITIONS */
OBJECT = IMAGE_MAP_PROJECTION
  ^DATA_SET_MAP_PROJECTION_CATALOG= "DSMAP.CAT"
  A_AXIS_RADIUS = 3396.0
  B_AXIS_RADIUS = 3396.0
  C_AXIS_RADIUS = 3396.0
  CENTER_LATITUDE = 0.0
  CENTER_LONGITUDE = 356.0
  COORDINATE_SYSTEM_NAME = PLANETOGRAPHIC
  COORDINATE_SYSTEM_TYPE = "BODY-FIXED ROTATING"
  EASTERNMOST_LONGITUDE = 359.768
  FIRST_STANDARD_PARALLEL = "N/A"
  LINE_FIRST_PIXEL = 1
  LINE_LAST_PIXEL = 28499
  LINE_PROJECTION_OFFSET = -158991.75
  MAP_PROJECTION_ROTATION = 0.0
  MAP_PROJECTION_TYPE = SINUSOIDAL
  MAP_RESOLUTION = 2370.85521546667
  MAP_SCALE = 0.025
  MAXIMUM_LATITUDE = -67.0582
  MINIMUM_LATITUDE = -79.14870000000001
  POSITIVE_LONGITUDE_DIRECTION = EAST
  REFERENCE_LATITUDE = "N/A"
  REFERENCE_LONGITUDE = "N/A"
  SAMPLE_FIRST_PIXEL = 1
  SAMPLE_LAST_PIXEL = 7479
  SAMPLE_PROJECTION_OFFSET = 4010.75
  SECOND_STANDARD_PARALLEL = "N/A"
  WESTERNMOST_LONGITUDE = 347.256
END_OBJECT = IMAGE_MAP_PROJECTION
END
