PDS_VERSION_ID = PDS3
/* FILE DATA ELEMENTS */
RECORD_TYPE = UNDEFINED
/* POINTERS TO DATA OBJECTS */
^IMAGE = ("H2442_0000_IR4.TIF")
/* IDENTIFICATION DATA ELEMENTS */
DATA_SET_ID = "MEX-M-HRSC-4-REFDR-MAPPROJECT-EXT1-V4.0"
DATA_SET_NAME = "MARS EXPRESS HRSC MAP PROJECTED REFDR EXTENSION1 V4.0"
DETECTOR_ID = MEX_HRSC_IR
EVENT_TYPE = "MARS-REGIONAL-MAPPING-Im-Fl-Pf"
INSTRUMENT_HOST_ID = MEX
INSTRUMENT_HOST_NAME = "MARS EXPRESS"
INSTRUMENT_ID = HRSC
INSTRUMENT_NAME = "HIGH RESOLUTION STEREO CAMERA"
MISSION_NAME = "MARS EXPRESS"
MISSION_PHASE_NAME = ME_Phase_1
PROCESSING_LEVEL_ID = 4
PRODUCT_CREATION_TIME = 2023-02-08T07:05:14.000Z
PRODUCT_ID = "H2442_0000_IR4.TIF"
RELEASE_ID = 0001
REVISION_ID = 0000
/* QUALITY DATA ELEMENTS */
DATA_QUALITY_ID = 1
DATA_QUALITY_DESC = "Data calculated based on original SPICE kernels"
/* TIME DATA ELEMENTS */
SPACECRAFT_CLOCK_START_COUNT = "1/0082035686.57169"
SPACECRAFT_CLOCK_STOP_COUNT = "1/0082035949.64405"
START_TIME = 2005-12-07T11:41:38.006Z
STOP_TIME = 2005-12-07T11:45:05.765Z
/* ORBITAL DATA ELEMENTS */
ASCENDING_NODE_LONGITUDE = 177.0
MAXIMUM_RESOLUTION = 0.0455
FOOTPRINT_POINT_LATITUDE = (-73.0188,-73.0512,-73.0797,-73.1106, -73.1112,-73.0379,-72.4153,-72.041, -71.7914,-71.5413,-71.2913,-71.041, -70.7904,-70.4156,-70.1647,-69.9136, -69.5368,-69.2846,-69.0332,-68.6563, -68.2786,-68.0263,-67.6477,-67.3949, -67.0163,-66.7636,-66.5105,-66.258, -66.0047,-65.7516,-65.4994,-65.2467, -64.9946,-64.7401,-64.4865,-64.1059, -63.8524,-63.4716,-63.091,-62.8372, -62.5772,-62.3133,-60.9915,-60.7273, -60.4639,-60.2004,-59.8044,-59.5391, -59.275,-59.1381,-59.071,-59.0664, -59.0539,-59.0536,-59.0542,-59.3239, -59.5871,-59.8507,-60.2456,-60.6403, -60.9036,-62.2192,-62.4819,-62.7438, -62.9967,-63.2494,-63.503,-63.756, -64.1343,-64.3866,-64.64,-64.8919, -65.1443,-65.5222,-65.7741,-66.1518, -66.5291,-66.7805,-67.0318,-67.2827, -67.5342,-67.7848,-68.0354,-68.2861, -68.5365,-68.7866,-69.0366,-69.2863, -69.6605,-69.9098,-70.1588,-70.5322, -70.7808,-71.0291,-71.2771,-71.5254, -72.0202,-72.7607,-72.8839,-73.0188)
FOOTPRINT_POINT_LONGITUDE = (291.323,292.246,293.194,294.475, 294.507,294.807,295.034,295.162,295.245 ,295.326,295.403,295.479,295.553, 295.656,295.726,295.793,295.89,295.956, 296.016,296.103,296.189,296.245,296.326 ,296.379,296.455,296.504,296.553, 296.599,296.645,296.69,296.732,296.773, 296.812,296.856,296.896,296.955,296.993 ,297.049,297.102,297.137,297.172, 297.206,297.371,297.402,297.43,297.458, 297.5,297.53,297.557,297.572,297.579, 296.437,295.561,295.542,295.536,295.5, 295.463,295.425,295.367,295.307,295.265 ,295.041,294.992,294.943,294.894, 294.844,294.792,294.739,294.657,294.601 ,294.543,294.484,294.423,294.33,294.265 ,294.165,294.062,293.99,293.917,293.842 ,293.764,293.685,293.603,293.519, 293.433,293.345,293.254,293.161,293.016 ,292.916,292.813,292.653,292.542, 292.428,292.311,292.19,291.938,291.529, 291.457,291.323)
ORBIT_NUMBER = 2442
ORBITAL_ECCENTRICITY = 0.572
ORBITAL_INCLINATION = 86.62
ORBITAL_SEMIMAJOR_AXIS = 8534.98
PERIAPSIS_ALTITUDE = 274.65
PERIAPSIS_ARGUMENT_ANGLE = 289.03
PERIAPSIS_TIME = 2005-12-07T11:42:31.000Z
SPACECRAFT_ORIENTATION = (0.0,-1.0,0.0)
^MEX_ORIENTATION_DESC = "MEX_ORIENTATION_DESC.TXT"
SPACECRAFT_POINTING_MODE = ACROSSTRACK
^MEX_POINTING_DESC = "MEX_POINTING_DESC.TXT"
RIGHT_ASCENSION = -1e+32
DECLINATION = -1e+32
OFFSET_ANGLE = -0.7
SPACECRAFT_SOLAR_DISTANCE = 2.2429e+08
TARGET_NAME = MARS
/* CAMERA DATA ELEMENTS */
DETECTOR_TEMPERATURE = 17.351
FOCAL_PLANE_TEMPERATURE = 8.3794
INST_CMPRS_NAME = "DISCRETE COSINE TRANSFORMATION (DCT)"
INST_CMPRS_RATIO = 14.5749
INST_CMPRS_QUALITY = 0
INST_CMPRS_QUANTZ_TBL_ID = 0
INSTRUMENT_TEMPERATURE = 11.234
LENS_TEMPERATURE = 8.9911
MACROPIXEL_SIZE = 4
PIXEL_SUBSAMPLING_FLAG = N
SIGNAL_CHAIN_ID = 2
/* RADIOMETRIC DATA ELEMENTS */
BANDWIDTH = 81.0
CENTER_FILTER_WAVELENGTH = 955.5
RADIANCE_OFFSET = 0.801814
RADIANCE_SCALING_FACTOR = 0.00280747
REFLECTANCE_SCALING_FACTOR = 0.000304694
MEX:REFLECTANCE_OFFSET = 0.0870206
/* IMAGE OBJECT DEFINITIONS */
OBJECT = IMAGE
  INTERCHANGE_FORMAT = BINARY
  LINES = 16622
  LINE_SAMPLES = 2818
  SAMPLE_TYPE = UNSIGNED_INTEGER
  SAMPLE_BITS = 8
  BANDS = 1
  BAND_STORAGE_TYPE = BAND_SEQUENTIAL
  MAXIMUM = 255
  MEAN = 141.78
  MINIMUM = 1
  STANDARD_DEVIATION = 28.6615
END_OBJECT = IMAGE
/* MAP OBJECT DEFINITIONS */
OBJECT = IMAGE_MAP_PROJECTION
  ^DATA_SET_MAP_PROJECTION_CATALOG= "DSMAP.CAT"
  A_AXIS_RADIUS = 3396.0
  B_AXIS_RADIUS = 3396.0
  C_AXIS_RADIUS = 3396.0
  CENTER_LATITUDE = 0.0
  CENTER_LONGITUDE = 295.0
  COORDINATE_SYSTEM_NAME = PLANETOGRAPHIC
  COORDINATE_SYSTEM_TYPE = "BODY-FIXED ROTATING"
  EASTERNMOST_LONGITUDE = 297.579
  FIRST_STANDARD_PARALLEL = "N/A"
  LINE_FIRST_PIXEL = 1
  LINE_LAST_PIXEL = 16622
  LINE_PROJECTION_OFFSET = -69980.375
  MAP_PROJECTION_ROTATION = 0.0
  MAP_PROJECTION_TYPE = SINUSOIDAL
  MAP_RESOLUTION = 1185.42760773333
  MAP_SCALE = 0.05
  MAXIMUM_LATITUDE = -59.0536
  MINIMUM_LATITUDE = -73.1112
  POSITIVE_LONGITUDE_DIRECTION = EAST
  REFERENCE_LATITUDE = "N/A"
  REFERENCE_LONGITUDE = "N/A"
  SAMPLE_FIRST_PIXEL = 1
  SAMPLE_LAST_PIXEL = 2818
  SAMPLE_PROJECTION_OFFSET = 1239.875
  SECOND_STANDARD_PARALLEL = "N/A"
  WESTERNMOST_LONGITUDE = 291.323
END_OBJECT = IMAGE_MAP_PROJECTION
END
