PDS_VERSION_ID = PDS3
/* FILE DATA ELEMENTS */
RECORD_TYPE = UNDEFINED
/* POINTERS TO DATA OBJECTS */
^IMAGE = ("H2441_0008_SR4.TIF")
/* IDENTIFICATION DATA ELEMENTS */
DATA_SET_ID = "MEX-M-HRSC-4-REFDR-MAPPROJECT-EXT1-V4.0"
DATA_SET_NAME = "MARS EXPRESS HRSC MAP PROJECTED REFDR EXTENSION1 V4.0"
DETECTOR_ID = MEX_HRSC_SRC
EVENT_TYPE = "MARS-REGIONAL-MAPPING-Vo-Im-Gl"
INSTRUMENT_HOST_ID = MEX
INSTRUMENT_HOST_NAME = "MARS EXPRESS"
INSTRUMENT_ID = HRSC
INSTRUMENT_NAME = "HIGH RESOLUTION STEREO CAMERA"
MISSION_NAME = "MARS EXPRESS"
MISSION_PHASE_NAME = ME_Phase_1
PROCESSING_LEVEL_ID = 4
PRODUCT_CREATION_TIME = 2023-02-08T07:05:14.000Z
PRODUCT_ID = "H2441_0008_SR4.TIF"
RELEASE_ID = 0001
REVISION_ID = 0000
/* QUALITY DATA ELEMENTS */
DATA_QUALITY_ID = 1
DATA_QUALITY_DESC = "Data calculated based on original SPICE kernels"
/* TIME DATA ELEMENTS */
SPACECRAFT_CLOCK_START_COUNT = "1/0082011676.57944"
SPACECRAFT_CLOCK_STOP_COUNT = "1/0082012051.23980"
IMAGE_TIME = 2005-12-07T05:06:25.396Z
START_TIME = 2005-12-07T05:06:25.393Z
STOP_TIME = 2005-12-07T05:06:25.398Z
/* ORBITAL DATA ELEMENTS */
ASCENDING_NODE_LONGITUDE = 177.02
MAXIMUM_RESOLUTION = 0.003845
FOOTPRINT_POINT_LATITUDE = (-43.3598,-43.3621,-43.3648,-43.3668, -43.3697,-43.372,-43.3764,-43.3794, -43.3817,-43.3847,-43.3878,-43.3902, -43.3935,-43.396,-43.3988,-43.4034, -43.408,-43.4109,-43.4143,-43.4181, -43.4212,-43.4253,-43.4254,-43.4254, -43.4253,-43.4252,-43.425,-43.4249, -43.4248,-43.4247,-43.4246,-43.4245, -43.4244,-43.4243,-43.4242,-43.4241, -43.424,-43.4239,-43.4238,-43.4237, -43.4236,-43.4235,-43.4234,-43.4233, -43.4232,-43.4231,-43.423,-43.4229, -43.4228,-43.4228,-43.4228,-43.4204, -43.4174,-43.4132,-43.4105,-43.4081, -43.4042,-43.3995,-43.396,-43.3938, -43.3905,-43.3859,-43.3826,-43.3787, -43.3763,-43.3724,-43.3691,-43.3669, -43.3648,-43.3612,-43.3574,-43.3574, -43.3574,-43.3575,-43.3576,-43.3577, -43.3578,-43.3579,-43.358,-43.3581, -43.3582,-43.3583,-43.3584,-43.3585, -43.3586,-43.3587,-43.3587,-43.3588, -43.3589,-43.359,-43.3591,-43.3592, -43.3593,-43.3594,-43.3595,-43.3596, -43.3597,-43.3598,-43.3598,-43.3598)
FOOTPRINT_POINT_LONGITUDE = (34.4308,34.4307,34.4306,34.4305, 34.4303,34.4302,34.43,34.4298,34.4297, 34.4295,34.4294,34.4293,34.4291,34.429, 34.4288,34.4286,34.4283,34.4282,34.428, 34.4278,34.4277,34.4275,34.4275,34.4274 ,34.4238,34.4202,34.4164,34.4128, 34.4093,34.4057,34.4021,34.3985,34.3949 ,34.3913,34.3878,34.3842,34.3806,34.377 ,34.3734,34.3698,34.3663,34.3627, 34.3591,34.3555,34.3519,34.3483,34.3448 ,34.3412,34.3385,34.3376,34.3371, 34.3372,34.3373,34.3376,34.3377,34.3378 ,34.338,34.3383,34.3385,34.3386,34.3388 ,34.339,34.3392,34.3394,34.3395,34.3397 ,34.3399,34.34,34.3401,34.3403,34.3405, 34.3405,34.3406,34.3442,34.3478,34.3513 ,34.3549,34.3585,34.3621,34.3657, 34.3692,34.3728,34.3764,34.38,34.3835, 34.3871,34.3907,34.3943,34.3979,34.4014 ,34.405,34.4086,34.4122,34.4158,34.4186 ,34.4222,34.4258,34.4294,34.4303, 34.4308)
ORBIT_NUMBER = 2441
ORBITAL_ECCENTRICITY = 0.572
ORBITAL_INCLINATION = 86.62
ORBITAL_SEMIMAJOR_AXIS = 8537.08
PERIAPSIS_ALTITUDE = 274.66
PERIAPSIS_ARGUMENT_ANGLE = 289.18
PERIAPSIS_TIME = 2005-12-07T04:59:28.000Z
SPACECRAFT_ORIENTATION = (0.0,-1.0,0.0)
^MEX_ORIENTATION_DESC = "MEX_ORIENTATION_DESC.TXT"
SPACECRAFT_POINTING_MODE = ACROSSTRACK
^MEX_POINTING_DESC = "MEX_POINTING_DESC.TXT"
RIGHT_ASCENSION = -1e+32
DECLINATION = -1e+32
OFFSET_ANGLE = 0.28
SPACECRAFT_SOLAR_DISTANCE = 2.24236e+08
TARGET_NAME = MARS
/* CAMERA DATA ELEMENTS */
BUFFER_MODE_ID = BUFFER_8
EXPOSURE_DURATION = 5.04
INST_CMPRS_NAME = NONE
INST_CMPRS_RATIO = 1.0
INST_CMPRS_QUALITY = -2147483648
INST_CMPRS_QUANTZ_TBL_ID = -2147483648
INSTRUMENT_TEMPERATURE = 5.15152
MISSING_FRAMES = 0
START_BIT = 0
/* RADIOMETRIC DATA ELEMENTS */
BANDWIDTH = 250.0
CENTER_FILTER_WAVELENGTH = 600.0
RADIANCE_OFFSET = -9.99e+31
RADIANCE_SCALING_FACTOR = -9.99e+31
REFLECTANCE_SCALING_FACTOR = -9.99e+31
MEX:REFLECTANCE_OFFSET = -9.99e+31
/* IMAGE OBJECT DEFINITIONS */
OBJECT = IMAGE
  INTERCHANGE_FORMAT = BINARY
  LINES = 864
  LINE_SAMPLES = 877
  SAMPLE_TYPE = UNSIGNED_INTEGER
  SAMPLE_BITS = 8
  BANDS = 1
  BAND_STORAGE_TYPE = BAND_SEQUENTIAL
  MAXIMUM = 250
  MEAN = 111.246
  MINIMUM = 2
  STANDARD_DEVIATION = 28.5228
END_OBJECT = IMAGE
/* MAP OBJECT DEFINITIONS */
OBJECT = IMAGE_MAP_PROJECTION
  ^DATA_SET_MAP_PROJECTION_CATALOG= "DSMAP.CAT"
  A_AXIS_RADIUS = 3396.19
  B_AXIS_RADIUS = 3396.19
  C_AXIS_RADIUS = 3396.19
  CENTER_LATITUDE = 0.0
  CENTER_LONGITUDE = 34.0
  COORDINATE_SYSTEM_NAME = PLANETOGRAPHIC
  COORDINATE_SYSTEM_TYPE = "BODY-FIXED ROTATING"
  EASTERNMOST_LONGITUDE = 34.4308
  FIRST_STANDARD_PARALLEL = "N/A"
  LINE_FIRST_PIXEL = 1
  LINE_LAST_PIXEL = 864
  LINE_PROJECTION_OFFSET = -513452.0
  MAP_PROJECTION_ROTATION = 0.0
  MAP_PROJECTION_TYPE = SINUSOIDAL
  MAP_RESOLUTION = 11854.9393024378
  MAP_SCALE = 0.005
  MAXIMUM_LATITUDE = -43.3574
  MINIMUM_LATITUDE = -43.4254
  POSITIVE_LONGITUDE_DIRECTION = EAST
  REFERENCE_LATITUDE = "N/A"
  REFERENCE_LONGITUDE = "N/A"
  SAMPLE_FIRST_PIXEL = 1
  SAMPLE_LAST_PIXEL = 877
  SAMPLE_PROJECTION_OFFSET = -2778.0
  SECOND_STANDARD_PARALLEL = "N/A"
  WESTERNMOST_LONGITUDE = 34.3371
END_OBJECT = IMAGE_MAP_PROJECTION
END
