PDS_VERSION_ID = PDS3
/* FILE DATA ELEMENTS */
RECORD_TYPE = UNDEFINED
/* POINTERS TO DATA OBJECTS */
^IMAGE = ("H2434_0005_SR4.TIF")
/* IDENTIFICATION DATA ELEMENTS */
DATA_SET_ID = "MEX-M-HRSC-4-REFDR-MAPPROJECT-EXT1-V4.0"
DATA_SET_NAME = "MARS EXPRESS HRSC MAP PROJECTED REFDR EXTENSION1 V4.0"
DETECTOR_ID = MEX_HRSC_SRC
EVENT_TYPE = "MARS-REGIONAL-MAPPING-Gl-Eo-La"
INSTRUMENT_HOST_ID = MEX
INSTRUMENT_HOST_NAME = "MARS EXPRESS"
INSTRUMENT_ID = HRSC
INSTRUMENT_NAME = "HIGH RESOLUTION STEREO CAMERA"
MISSION_NAME = "MARS EXPRESS"
MISSION_PHASE_NAME = ME_Phase_1
PROCESSING_LEVEL_ID = 4
PRODUCT_CREATION_TIME = 2023-02-08T07:05:14.000Z
PRODUCT_ID = "H2434_0005_SR4.TIF"
RELEASE_ID = 0001
REVISION_ID = 0000
/* QUALITY DATA ELEMENTS */
DATA_QUALITY_ID = 1
DATA_QUALITY_DESC = "Data calculated based on original SPICE kernels"
/* TIME DATA ELEMENTS */
SPACECRAFT_CLOCK_START_COUNT = "1/0081842052.57939"
SPACECRAFT_CLOCK_STOP_COUNT = "1/0081842169.56375"
IMAGE_TIME = 2005-12-05T05:54:55.430Z
START_TIME = 2005-12-05T05:54:55.427Z
STOP_TIME = 2005-12-05T05:54:55.432Z
/* ORBITAL DATA ELEMENTS */
ASCENDING_NODE_LONGITUDE = 177.17
MAXIMUM_RESOLUTION = 0.002933
FOOTPRINT_POINT_LATITUDE = (-83.9712,-83.9731,-83.9752,-83.9768, -83.9782,-83.9799,-83.9813,-83.9839, -83.9855,-83.9882,-83.9904,-83.9925, -83.9946,-83.996,-83.9977,-84.0, -84.0023,-84.004,-84.0056,-84.0073, -84.0097,-84.0112,-84.0134,-84.0134, -84.0134,-84.0123,-84.0113,-84.0102, -84.0091,-84.008,-84.007,-84.0059, -84.0048,-84.0037,-84.0027,-84.0016, -84.0005,-83.9994,-83.9984,-83.9973, -83.9962,-83.9951,-83.9941,-83.993, -83.9919,-83.9908,-83.9897,-83.9887, -83.9876,-83.9865,-83.9862,-83.9861, -83.9834,-83.9803,-83.9779,-83.9763, -83.9743,-83.9729,-83.9707,-83.9694, -83.9671,-83.9654,-83.9635,-83.9614, -83.9598,-83.9583,-83.9565,-83.9541, -83.9524,-83.9498,-83.9474,-83.944, -83.944,-83.944,-83.9451,-83.9462, -83.9473,-83.9483,-83.9494,-83.9505, -83.9515,-83.9526,-83.9537,-83.9547, -83.9558,-83.9569,-83.9587,-83.9598, -83.9609,-83.962,-83.963,-83.9641, -83.9651,-83.9662,-83.9673,-83.9683, -83.9694,-83.9707,-83.971,-83.9712)
FOOTPRINT_POINT_LONGITUDE = (335.614,335.602,335.589,335.579, 335.571,335.561,335.552,335.537,335.527 ,335.511,335.497,335.484,335.472, 335.463,335.453,335.439,335.425,335.415 ,335.405,335.395,335.38,335.371,335.358 ,335.357,335.357,335.341,335.325, 335.309,335.293,335.277,335.261,335.244 ,335.228,335.212,335.196,335.18,335.164 ,335.148,335.132,335.116,335.1,335.084, 335.069,335.053,335.037,335.021,335.005 ,334.989,334.973,334.957,334.953, 334.951,334.967,334.986,335.001,335.011 ,335.023,335.032,335.045,335.053, 335.067,335.078,335.089,335.102,335.112 ,335.122,335.133,335.147,335.157, 335.173,335.188,335.208,335.209,335.209 ,335.225,335.241,335.257,335.272, 335.288,335.304,335.32,335.336,335.352, 335.368,335.384,335.4,335.428,335.443, 335.459,335.475,335.491,335.507,335.523 ,335.539,335.555,335.571,335.587, 335.607,335.611,335.614)
ORBIT_NUMBER = 2434
ORBITAL_ECCENTRICITY = 0.572
ORBITAL_INCLINATION = 86.62
ORBITAL_SEMIMAJOR_AXIS = 8536.72
PERIAPSIS_ALTITUDE = 274.07
PERIAPSIS_ARGUMENT_ANGLE = 290.39
PERIAPSIS_TIME = 2005-12-05T05:58:45.000Z
SPACECRAFT_ORIENTATION = (0.0,-1.0,0.0)
^MEX_ORIENTATION_DESC = "MEX_ORIENTATION_DESC.TXT"
SPACECRAFT_POINTING_MODE = ACROSSTRACK
^MEX_POINTING_DESC = "MEX_POINTING_DESC.TXT"
RIGHT_ASCENSION = -1e+32
DECLINATION = -1e+32
OFFSET_ANGLE = -0.1
SPACECRAFT_SOLAR_DISTANCE = 2.23854e+08
TARGET_NAME = MARS
/* CAMERA DATA ELEMENTS */
BUFFER_MODE_ID = BUFFER_8
EXPOSURE_DURATION = 5.04
INST_CMPRS_NAME = NONE
INST_CMPRS_RATIO = 1.0
INST_CMPRS_QUALITY = -2147483648
INST_CMPRS_QUANTZ_TBL_ID = -2147483648
INSTRUMENT_TEMPERATURE = 5.29678
MISSING_FRAMES = 0
START_BIT = 0
/* RADIOMETRIC DATA ELEMENTS */
BANDWIDTH = 250.0
CENTER_FILTER_WAVELENGTH = 600.0
RADIANCE_OFFSET = -9.99e+31
RADIANCE_SCALING_FACTOR = -9.99e+31
REFLECTANCE_SCALING_FACTOR = -9.99e+31
MEX:REFLECTANCE_OFFSET = -9.99e+31
/* IMAGE OBJECT DEFINITIONS */
OBJECT = IMAGE
  INTERCHANGE_FORMAT = BINARY
  LINES = 1788
  LINE_SAMPLES = 1794
  SAMPLE_TYPE = UNSIGNED_INTEGER
  SAMPLE_BITS = 8
  BANDS = 1
  BAND_STORAGE_TYPE = BAND_SEQUENTIAL
  MAXIMUM = 248
  MEAN = 126.537
  MINIMUM = 2
  STANDARD_DEVIATION = 24.2437
END_OBJECT = IMAGE
/* MAP OBJECT DEFINITIONS */
OBJECT = IMAGE_MAP_PROJECTION
  ^DATA_SET_MAP_PROJECTION_CATALOG= "DSMAP.CAT"
  A_AXIS_RADIUS = 3396.19
  B_AXIS_RADIUS = 3396.19
  C_AXIS_RADIUS = 3396.19
  CENTER_LATITUDE = 0.0
  CENTER_LONGITUDE = 335.0
  COORDINATE_SYSTEM_NAME = PLANETOGRAPHIC
  COORDINATE_SYSTEM_TYPE = "BODY-FIXED ROTATING"
  EASTERNMOST_LONGITUDE = 335.614
  FIRST_STANDARD_PARALLEL = "N/A"
  LINE_FIRST_PIXEL = 1
  LINE_LAST_PIXEL = 1788
  LINE_PROJECTION_OFFSET = -1984881.0
  MAP_PROJECTION_ROTATION = 0.0
  MAP_PROJECTION_TYPE = SINUSOIDAL
  MAP_RESOLUTION = 23709.8786048756
  MAP_SCALE = 0.0025
  MAXIMUM_LATITUDE = -83.944
  MINIMUM_LATITUDE = -84.0134
  POSITIVE_LONGITUDE_DIRECTION = EAST
  REFERENCE_LATITUDE = "N/A"
  REFERENCE_LONGITUDE = "N/A"
  SAMPLE_FIRST_PIXEL = 1
  SAMPLE_LAST_PIXEL = 1794
  SAMPLE_PROJECTION_OFFSET = 60.0
  SECOND_STANDARD_PARALLEL = "N/A"
  WESTERNMOST_LONGITUDE = 334.951
END_OBJECT = IMAGE_MAP_PROJECTION
END
