PDS_VERSION_ID = PDS3
/* FILE DATA ELEMENTS */
RECORD_TYPE = UNDEFINED
/* POINTERS TO DATA OBJECTS */
^IMAGE = ("H2434_0003_SR4.TIF")
/* IDENTIFICATION DATA ELEMENTS */
DATA_SET_ID = "MEX-M-HRSC-4-REFDR-MAPPROJECT-EXT1-V4.0"
DATA_SET_NAME = "MARS EXPRESS HRSC MAP PROJECTED REFDR EXTENSION1 V4.0"
DETECTOR_ID = MEX_HRSC_SRC
EVENT_TYPE = "MARS-REGIONAL-MAPPING-Gl-Eo-La"
INSTRUMENT_HOST_ID = MEX
INSTRUMENT_HOST_NAME = "MARS EXPRESS"
INSTRUMENT_ID = HRSC
INSTRUMENT_NAME = "HIGH RESOLUTION STEREO CAMERA"
MISSION_NAME = "MARS EXPRESS"
MISSION_PHASE_NAME = ME_Phase_1
PROCESSING_LEVEL_ID = 4
PRODUCT_CREATION_TIME = 2023-02-08T07:05:14.000Z
PRODUCT_ID = "H2434_0003_SR4.TIF"
RELEASE_ID = 0001
REVISION_ID = 0000
/* QUALITY DATA ELEMENTS */
DATA_QUALITY_ID = 1
DATA_QUALITY_DESC = "Data calculated based on original SPICE kernels"
/* TIME DATA ELEMENTS */
SPACECRAFT_CLOCK_START_COUNT = "1/0081842052.57939"
SPACECRAFT_CLOCK_STOP_COUNT = "1/0081842169.56375"
IMAGE_TIME = 2005-12-05T05:54:54.340Z
START_TIME = 2005-12-05T05:54:54.337Z
STOP_TIME = 2005-12-05T05:54:54.342Z
/* ORBITAL DATA ELEMENTS */
ASCENDING_NODE_LONGITUDE = 177.17
MAXIMUM_RESOLUTION = 0.002937
FOOTPRINT_POINT_LATITUDE = (-84.0312,-84.0345,-84.0368,-84.0386, -84.0409,-84.0424,-84.044,-84.0458, -84.0471,-84.0499,-84.0518,-84.0543, -84.0561,-84.0588,-84.061,-84.0623, -84.0641,-84.0656,-84.0687,-84.071, -84.0733,-84.0734,-84.0733,-84.072, -84.0709,-84.0698,-84.0687,-84.0677, -84.0666,-84.0655,-84.0644,-84.0633, -84.0622,-84.0611,-84.06,-84.059, -84.0579,-84.0568,-84.056,-84.0549, -84.0538,-84.0527,-84.0516,-84.0505, -84.0494,-84.0483,-84.0472,-84.0461, -84.0459,-84.0457,-84.0444,-84.0422, -84.0408,-84.0395,-84.0377,-84.0357, -84.0332,-84.0314,-84.0288,-84.0262, -84.0245,-84.0225,-84.0205,-84.0187, -84.0173,-84.0153,-84.0133,-84.0117, -84.0102,-84.0075,-84.0059,-84.0038, -84.0037,-84.0038,-84.0049,-84.0059, -84.007,-84.0081,-84.0092,-84.0103, -84.0114,-84.0125,-84.0135,-84.0146, -84.0157,-84.0168,-84.0179,-84.0189, -84.0208,-84.0219,-84.023,-84.0241, -84.0251,-84.0262,-84.0273,-84.0284, -84.0294,-84.0308,-84.0311,-84.0312)
FOOTPRINT_POINT_LONGITUDE = (335.248,335.227,335.214,335.202, 335.188,335.178,335.169,335.158,335.149 ,335.132,335.12,335.105,335.093,335.077 ,335.063,335.055,335.044,335.034, 335.015,335.001,334.986,334.986,334.985 ,334.965,334.949,334.933,334.917,334.9, 334.884,334.868,334.852,334.836,334.82, 334.803,334.787,334.771,334.755,334.739 ,334.727,334.711,334.695,334.679, 334.663,334.647,334.631,334.614,334.598 ,334.582,334.578,334.576,334.584, 334.598,334.607,334.615,334.627,334.639 ,334.655,334.666,334.683,334.699,334.71 ,334.723,334.735,334.746,334.755, 334.768,334.78,334.79,334.799,334.816, 334.826,334.839,334.84,334.84,334.856, 334.872,334.888,334.904,334.92,334.936, 334.952,334.968,334.984,335.0,335.016, 335.032,335.048,335.064,335.092,335.108 ,335.125,335.141,335.157,335.173, 335.189,335.205,335.221,335.241,335.245 ,335.248)
ORBIT_NUMBER = 2434
ORBITAL_ECCENTRICITY = 0.572
ORBITAL_INCLINATION = 86.62
ORBITAL_SEMIMAJOR_AXIS = 8536.72
PERIAPSIS_ALTITUDE = 274.07
PERIAPSIS_ARGUMENT_ANGLE = 290.39
PERIAPSIS_TIME = 2005-12-05T05:58:45.000Z
SPACECRAFT_ORIENTATION = (0.0,-1.0,0.0)
^MEX_ORIENTATION_DESC = "MEX_ORIENTATION_DESC.TXT"
SPACECRAFT_POINTING_MODE = ACROSSTRACK
^MEX_POINTING_DESC = "MEX_POINTING_DESC.TXT"
RIGHT_ASCENSION = -1e+32
DECLINATION = -1e+32
OFFSET_ANGLE = -0.1
SPACECRAFT_SOLAR_DISTANCE = 2.23854e+08
TARGET_NAME = MARS
/* CAMERA DATA ELEMENTS */
BUFFER_MODE_ID = BUFFER_8
EXPOSURE_DURATION = 5.04
INST_CMPRS_NAME = NONE
INST_CMPRS_RATIO = 1.0
INST_CMPRS_QUALITY = -2147483648
INST_CMPRS_QUANTZ_TBL_ID = -2147483648
INSTRUMENT_TEMPERATURE = 5.19356
MISSING_FRAMES = 0
START_BIT = 0
/* RADIOMETRIC DATA ELEMENTS */
BANDWIDTH = 250.0
CENTER_FILTER_WAVELENGTH = 600.0
RADIANCE_OFFSET = -9.99e+31
RADIANCE_SCALING_FACTOR = -9.99e+31
REFLECTANCE_SCALING_FACTOR = -9.99e+31
MEX:REFLECTANCE_OFFSET = -9.99e+31
/* IMAGE OBJECT DEFINITIONS */
OBJECT = IMAGE
  INTERCHANGE_FORMAT = BINARY
  LINES = 1793
  LINE_SAMPLES = 1796
  SAMPLE_TYPE = UNSIGNED_INTEGER
  SAMPLE_BITS = 8
  BANDS = 1
  BAND_STORAGE_TYPE = BAND_SEQUENTIAL
  MAXIMUM = 247
  MEAN = 132.179
  MINIMUM = 11
  STANDARD_DEVIATION = 25.4524
END_OBJECT = IMAGE
/* MAP OBJECT DEFINITIONS */
OBJECT = IMAGE_MAP_PROJECTION
  ^DATA_SET_MAP_PROJECTION_CATALOG= "DSMAP.CAT"
  A_AXIS_RADIUS = 3396.19
  B_AXIS_RADIUS = 3396.19
  C_AXIS_RADIUS = 3396.19
  CENTER_LATITUDE = 0.0
  CENTER_LONGITUDE = 335.0
  COORDINATE_SYSTEM_NAME = PLANETOGRAPHIC
  COORDINATE_SYSTEM_TYPE = "BODY-FIXED ROTATING"
  EASTERNMOST_LONGITUDE = 335.248
  FIRST_STANDARD_PARALLEL = "N/A"
  LINE_FIRST_PIXEL = 1
  LINE_LAST_PIXEL = 1793
  LINE_PROJECTION_OFFSET = -1986290.0
  MAP_PROJECTION_ROTATION = 0.0
  MAP_PROJECTION_TYPE = SINUSOIDAL
  MAP_RESOLUTION = 23709.8786048756
  MAP_SCALE = 0.0025
  MAXIMUM_LATITUDE = -84.00369999999999
  MINIMUM_LATITUDE = -84.07340000000001
  POSITIVE_LONGITUDE_DIRECTION = EAST
  REFERENCE_LATITUDE = "N/A"
  REFERENCE_LONGITUDE = "N/A"
  SAMPLE_FIRST_PIXEL = 1
  SAMPLE_LAST_PIXEL = 1796
  SAMPLE_PROJECTION_OFFSET = 975.0
  SECOND_STANDARD_PARALLEL = "N/A"
  WESTERNMOST_LONGITUDE = 334.576
END_OBJECT = IMAGE_MAP_PROJECTION
END
