PDS_VERSION_ID = PDS3
/* FILE DATA ELEMENTS */
RECORD_TYPE = UNDEFINED
/* POINTERS TO DATA OBJECTS */
^IMAGE = ("H2431_0000_GR4.TIF")
/* IDENTIFICATION DATA ELEMENTS */
DATA_SET_ID = "MEX-M-HRSC-4-REFDR-MAPPROJECT-EXT1-V4.0"
DATA_SET_NAME = "MARS EXPRESS HRSC MAP PROJECTED REFDR EXTENSION1 V4.0"
DETECTOR_ID = MEX_HRSC_GREEN
EVENT_TYPE = "MARS-REGIONAL-MAPPING-Im-Fl-Pf"
INSTRUMENT_HOST_ID = MEX
INSTRUMENT_HOST_NAME = "MARS EXPRESS"
INSTRUMENT_ID = HRSC
INSTRUMENT_NAME = "HIGH RESOLUTION STEREO CAMERA"
MISSION_NAME = "MARS EXPRESS"
MISSION_PHASE_NAME = ME_Phase_1
PROCESSING_LEVEL_ID = 4
PRODUCT_CREATION_TIME = 2023-02-08T07:05:14.000Z
PRODUCT_ID = "H2431_0000_GR4.TIF"
RELEASE_ID = 0001
REVISION_ID = 0000
/* QUALITY DATA ELEMENTS */
DATA_QUALITY_ID = 1
DATA_QUALITY_DESC = "Data calculated based on original SPICE kernels"
/* TIME DATA ELEMENTS */
SPACECRAFT_CLOCK_START_COUNT = "1/0081769897.57315"
SPACECRAFT_CLOCK_STOP_COUNT = "1/0081770312.46027"
START_TIME = 2005-12-04T09:52:05.415Z
STOP_TIME = 2005-12-04T09:57:41.306Z
/* ORBITAL DATA ELEMENTS */
ASCENDING_NODE_LONGITUDE = 177.23
MAXIMUM_RESOLUTION = 0.0911
FOOTPRINT_POINT_LATITUDE = (-60.0438,-60.0831,-60.1036,-60.104, -60.0929,-58.9996,-58.2719,-57.898, -57.3329,-56.9562,-56.5797,-56.2035, -55.8276,-55.2443,-54.6611,-54.2721, -53.8842,-53.4844,-52.8842,-52.2844, -51.8765,-51.4641,-51.0518,-50.6409, -50.2186,-49.7936,-49.3713,-48.9483, -48.5266,-48.1054,-47.6848,-47.2647, -46.845,-46.3773,-45.8793,-45.3821, -44.8862,-44.3921,-43.8992,-43.1605, -42.6701,-42.1723,-41.6714,-41.1613, -40.3871,-39.5985,-38.7947,-38.5229, -38.3773,-38.3753,-38.3699,-38.361, -38.3607,-38.3627,-39.173,-39.705, -40.2281,-40.7483,-41.2586,-42.0158, -42.5151,-43.0046,-43.4953,-43.9867, -44.4793,-44.9732,-45.4683,-45.9647, -46.7016,-47.1198,-47.5389,-47.9585, -48.3791,-48.799,-49.2211,-49.6429, -50.0664,-50.6964,-51.3123,-51.7237, -52.1339,-52.7335,-53.1332,-53.5333, -53.928,-54.3146,-54.703,-55.0922, -55.4796,-55.8652,-56.239,-56.6154, -56.9909,-57.3666,-57.7426,-58.4818, -59.0264,-59.7528,-59.9347,-60.0438)
FOOTPRINT_POINT_LONGITUDE = (295.644,296.779,297.53,297.548,297.671 ,297.793,297.868,297.901,297.95,297.984 ,298.018,298.051,298.084,298.131, 298.177,298.213,298.242,298.275,298.311 ,298.35,298.383,298.408,298.435,298.456 ,298.48,298.512,298.529,298.555,298.576 ,298.598,298.62,298.643,298.668,298.688 ,298.71,298.733,298.756,298.774,298.791 ,298.824,298.843,298.861,298.879, 298.896,298.923,298.949,298.973,298.982 ,298.986,298.243,297.583,297.006, 296.988,296.975,296.971,296.968,296.963 ,296.957,296.95,296.939,296.93,296.92, 296.909,296.897,296.884,296.87,296.855, 296.838,296.811,296.795,296.777,296.759 ,296.739,296.719,296.697,296.675, 296.651,296.613,296.574,296.546,296.517 ,296.472,296.441,296.408,296.375, 296.342,296.306,296.268,296.231,296.19, 296.152,296.11,296.067,296.023,295.977, 295.882,295.807,295.702,295.674, 295.644)
ORBIT_NUMBER = 2431
ORBITAL_ECCENTRICITY = 0.572
ORBITAL_INCLINATION = 86.62
ORBITAL_SEMIMAJOR_AXIS = 8536.53
PERIAPSIS_ALTITUDE = 273.88
PERIAPSIS_ARGUMENT_ANGLE = 290.95
PERIAPSIS_TIME = 2005-12-04T09:49:57.000Z
SPACECRAFT_ORIENTATION = (0.0,-1.0,0.0)
^MEX_ORIENTATION_DESC = "MEX_ORIENTATION_DESC.TXT"
SPACECRAFT_POINTING_MODE = ACROSSTRACK
^MEX_POINTING_DESC = "MEX_POINTING_DESC.TXT"
RIGHT_ASCENSION = -1e+32
DECLINATION = -1e+32
OFFSET_ANGLE = -0.61
SPACECRAFT_SOLAR_DISTANCE = 2.23691e+08
TARGET_NAME = MARS
/* CAMERA DATA ELEMENTS */
DETECTOR_TEMPERATURE = 18.9822
FOCAL_PLANE_TEMPERATURE = 7.9716
INST_CMPRS_NAME = "DISCRETE COSINE TRANSFORMATION (DCT)"
INST_CMPRS_RATIO = 21.9175
INST_CMPRS_QUALITY = 0
INST_CMPRS_QUANTZ_TBL_ID = 0
INSTRUMENT_TEMPERATURE = 11.234
LENS_TEMPERATURE = 8.5833
MACROPIXEL_SIZE = 8
MISSING_FRAMES = 0
PIXEL_SUBSAMPLING_FLAG = N
SIGNAL_CHAIN_ID = 2
/* RADIOMETRIC DATA ELEMENTS */
BANDWIDTH = 88.0
CENTER_FILTER_WAVELENGTH = 538.0
RADIANCE_OFFSET = 1.6053
RADIANCE_SCALING_FACTOR = 0.00287785
REFLECTANCE_SCALING_FACTOR = 0.000123981
MEX:REFLECTANCE_OFFSET = 0.0691581
/* IMAGE OBJECT DEFINITIONS */
OBJECT = IMAGE
  INTERCHANGE_FORMAT = BINARY
  LINES = 12886
  LINE_SAMPLES = 1170
  SAMPLE_TYPE = UNSIGNED_INTEGER
  SAMPLE_BITS = 8
  BANDS = 1
  BAND_STORAGE_TYPE = BAND_SEQUENTIAL
  MAXIMUM = 255
  MEAN = 148.221
  MINIMUM = 1
  STANDARD_DEVIATION = 33.408
END_OBJECT = IMAGE
/* MAP OBJECT DEFINITIONS */
OBJECT = IMAGE_MAP_PROJECTION
  ^DATA_SET_MAP_PROJECTION_CATALOG= "DSMAP.CAT"
  A_AXIS_RADIUS = 3396.0
  B_AXIS_RADIUS = 3396.0
  C_AXIS_RADIUS = 3396.0
  CENTER_LATITUDE = 0.0
  CENTER_LONGITUDE = 298.0
  COORDINATE_SYSTEM_NAME = PLANETOGRAPHIC
  COORDINATE_SYSTEM_TYPE = "BODY-FIXED ROTATING"
  EASTERNMOST_LONGITUDE = 298.986
  FIRST_STANDARD_PARALLEL = "N/A"
  LINE_FIRST_PIXEL = 1
  LINE_LAST_PIXEL = 12886
  LINE_PROJECTION_OFFSET = -22738.1875
  MAP_PROJECTION_ROTATION = 0.0
  MAP_PROJECTION_TYPE = SINUSOIDAL
  MAP_RESOLUTION = 592.713803866667
  MAP_SCALE = 0.1
  MAXIMUM_LATITUDE = -38.3607
  MINIMUM_LATITUDE = -60.104
  POSITIVE_LONGITUDE_DIRECTION = EAST
  REFERENCE_LATITUDE = "N/A"
  REFERENCE_LONGITUDE = "N/A"
  SAMPLE_FIRST_PIXEL = 1
  SAMPLE_LAST_PIXEL = 1170
  SAMPLE_PROJECTION_OFFSET = 693.9375
  SECOND_STANDARD_PARALLEL = "N/A"
  WESTERNMOST_LONGITUDE = 295.644
END_OBJECT = IMAGE_MAP_PROJECTION
END
