PDS_VERSION_ID = PDS3
/* FILE DATA ELEMENTS */
RECORD_TYPE = UNDEFINED
/* POINTERS TO DATA OBJECTS */
^IMAGE = ("H2430_0000_ND4.TIF")
/* IDENTIFICATION DATA ELEMENTS */
DATA_SET_ID = "MEX-M-HRSC-4-REFDR-MAPPROJECT-EXT1-V4.0"
DATA_SET_NAME = "MARS EXPRESS HRSC MAP PROJECTED REFDR EXTENSION1 V4.0"
DETECTOR_ID = MEX_HRSC_NADIR
EVENT_TYPE = "MARS-REGIONAL-MAPPING-Gl-Pf-Eo"
INSTRUMENT_HOST_ID = MEX
INSTRUMENT_HOST_NAME = "MARS EXPRESS"
INSTRUMENT_ID = HRSC
INSTRUMENT_NAME = "HIGH RESOLUTION STEREO CAMERA"
MISSION_NAME = "MARS EXPRESS"
MISSION_PHASE_NAME = ME_Phase_1
PROCESSING_LEVEL_ID = 4
PRODUCT_CREATION_TIME = 2023-02-08T07:05:14.000Z
PRODUCT_ID = "H2430_0000_ND4.TIF"
RELEASE_ID = 0001
REVISION_ID = 0000
/* QUALITY DATA ELEMENTS */
DATA_QUALITY_ID = 1
DATA_QUALITY_DESC = "Data calculated based on original SPICE kernels"
/* TIME DATA ELEMENTS */
SPACECRAFT_CLOCK_START_COUNT = "1/0081745365.57306"
SPACECRAFT_CLOCK_STOP_COUNT = "1/0081745548.09029"
START_TIME = 2005-12-04T03:03:22.492Z
STOP_TIME = 2005-12-04T03:05:28.519Z
/* ORBITAL DATA ELEMENTS */
ASCENDING_NODE_LONGITUDE = 177.25
MAXIMUM_RESOLUTION = 0.0112
FOOTPRINT_POINT_LATITUDE = (-82.3991,-82.4707,-82.5398,-82.6065, -82.6704,-82.7315,-82.8038,-82.8073, -82.8275,-82.658,-82.4879,-82.3173, -82.1466,-81.981,-81.8151,-81.6489, -81.4822,-81.3152,-81.148,-80.9805, -80.8127,-80.6447,-80.4762,-80.2249, -80.0619,-79.8988,-79.7354,-79.5719, -79.4081,-79.2441,-79.0801,-78.9158, -78.7513,-78.5867,-78.4219,-78.2569, -78.0918,-77.9291,-77.6106,-77.2115, -76.892,-76.7321,-76.572,-76.4118, -76.2514,-76.0909,-75.9305,-75.77, -75.6094,-75.4486,-75.2878,-75.1271, -74.7316,-74.6542,-74.6418,-74.5976, -74.5313,-74.4713,-74.4693,-74.4686, -74.6976,-75.0133,-75.1716,-75.3298, -75.6458,-75.9612,-76.276,-76.59, -76.825,-77.1378,-77.4498,-77.7608, -77.9219,-78.1631,-78.3236,-78.4838, -78.6437,-78.8034,-78.9627,-79.1217, -79.2803,-79.4386,-79.5965,-79.7541, -79.9112,-80.153,-80.3149,-80.4762, -80.7173,-80.9572,-81.1164,-81.275, -81.4329,-81.5902,-81.7467,-81.9073, -82.0678,-82.3069,-82.3861,-82.3991)
FOOTPRINT_POINT_LONGITUDE = (14.1083,15.2222,16.3641,17.5354, 18.7344,19.9626,21.5409,21.6209,22.0682 ,22.5037,22.9181,23.3111,23.6881, 24.0368,24.3739,24.6975,25.0062,25.303, 25.5899,25.8663,26.1339,26.3926,26.6379 ,26.9965,27.2158,27.4276,27.6335, 27.8318,28.0237,28.2104,28.3926,28.5684 ,28.7383,28.903,29.0642,29.2188,29.3698 ,29.5111,29.7874,30.1046,30.3499, 30.4693,30.5835,30.6948,30.8009,30.9048 ,31.0091,31.1124,31.2123,31.3096, 31.4047,31.501,31.7196,31.7611,31.7677, 30.6938,29.2836,28.155,28.1201,28.1029, 27.9171,27.6507,27.5123,27.3708,27.0779 ,26.771,26.4493,26.1119,25.8478,25.4796 ,25.0926,24.6855,24.4655,24.1236, 23.8877,23.6451,23.3955,23.1383,22.8736 ,22.601,22.3201,22.0306,21.7322,21.4244 ,21.1069,20.5964,20.2389,19.87,19.291, 18.6798,18.2549,17.8148,17.3553,16.8802 ,16.3872,15.8596,15.308,14.4349,14.1313 ,14.1083)
ORBIT_NUMBER = 2430
ORBITAL_ECCENTRICITY = 0.572
ORBITAL_INCLINATION = 86.62
ORBITAL_SEMIMAJOR_AXIS = 8538.84
PERIAPSIS_ALTITUDE = 273.89
PERIAPSIS_ARGUMENT_ANGLE = 291.11
PERIAPSIS_TIME = 2005-12-04T03:06:57.000Z
SPACECRAFT_ORIENTATION = (0.0,-1.0,0.0)
^MEX_ORIENTATION_DESC = "MEX_ORIENTATION_DESC.TXT"
SPACECRAFT_POINTING_MODE = ACROSSTRACK
^MEX_POINTING_DESC = "MEX_POINTING_DESC.TXT"
RIGHT_ASCENSION = -1e+32
DECLINATION = -1e+32
OFFSET_ANGLE = -0.458
SPACECRAFT_SOLAR_DISTANCE = 2.23636e+08
TARGET_NAME = MARS
/* CAMERA DATA ELEMENTS */
DETECTOR_TEMPERATURE = 18.1666
FOCAL_PLANE_TEMPERATURE = 7.9716
INST_CMPRS_NAME = "DISCRETE COSINE TRANSFORMATION (DCT)"
INST_CMPRS_RATIO = 7.27204
INST_CMPRS_QUALITY = 0
INST_CMPRS_QUANTZ_TBL_ID = 0
INSTRUMENT_TEMPERATURE = 11.0301
LENS_TEMPERATURE = 8.3794
MACROPIXEL_SIZE = 1
MISSING_FRAMES = 0
PIXEL_SUBSAMPLING_FLAG = N
SIGNAL_CHAIN_ID = 0
/* RADIOMETRIC DATA ELEMENTS */
BANDWIDTH = 177.0
CENTER_FILTER_WAVELENGTH = 677.5
RADIANCE_OFFSET = 2.32584
RADIANCE_SCALING_FACTOR = 0.00770214
REFLECTANCE_SCALING_FACTOR = 0.000204634
MEX:REFLECTANCE_OFFSET = 0.061794
/* IMAGE OBJECT DEFINITIONS */
OBJECT = IMAGE
  INTERCHANGE_FORMAT = BINARY
  LINES = 39637
  LINE_SAMPLES = 14720
  SAMPLE_TYPE = UNSIGNED_INTEGER
  SAMPLE_BITS = 8
  BANDS = 1
  BAND_STORAGE_TYPE = BAND_SEQUENTIAL
  MAXIMUM = 255
  MEAN = 131.512
  MINIMUM = 1
  STANDARD_DEVIATION = 27.7936
END_OBJECT = IMAGE
/* MAP OBJECT DEFINITIONS */
OBJECT = IMAGE_MAP_PROJECTION
  ^DATA_SET_MAP_PROJECTION_CATALOG= "DSMAP.CAT"
  A_AXIS_RADIUS = 3396.0
  B_AXIS_RADIUS = 3396.0
  C_AXIS_RADIUS = 3396.0
  CENTER_LATITUDE = 0.0
  CENTER_LONGITUDE = 26.0
  COORDINATE_SYSTEM_NAME = PLANETOGRAPHIC
  COORDINATE_SYSTEM_TYPE = "BODY-FIXED ROTATING"
  EASTERNMOST_LONGITUDE = 31.7677
  FIRST_STANDARD_PARALLEL = "N/A"
  LINE_FIRST_PIXEL = 1
  LINE_LAST_PIXEL = 39637
  LINE_PROJECTION_OFFSET = -353109.0
  MAP_PROJECTION_ROTATION = 0.0
  MAP_PROJECTION_TYPE = SINUSOIDAL
  MAP_RESOLUTION = 4741.71043093333
  MAP_SCALE = 0.0125
  MAXIMUM_LATITUDE = -74.4686
  MINIMUM_LATITUDE = -82.8275
  POSITIVE_LONGITUDE_DIRECTION = EAST
  REFERENCE_LATITUDE = "N/A"
  REFERENCE_LONGITUDE = "N/A"
  SAMPLE_FIRST_PIXEL = 1
  SAMPLE_LAST_PIXEL = 14720
  SAMPLE_PROJECTION_OFFSET = 7475.0
  SECOND_STANDARD_PARALLEL = "N/A"
  WESTERNMOST_LONGITUDE = 14.1083
END_OBJECT = IMAGE_MAP_PROJECTION
END
