PDS_VERSION_ID = PDS3
/* FILE DATA ELEMENTS */
RECORD_TYPE = UNDEFINED
/* POINTERS TO DATA OBJECTS */
^IMAGE = ("H2428_0000_P24.TIF")
/* IDENTIFICATION DATA ELEMENTS */
DATA_SET_ID = "MEX-M-HRSC-4-REFDR-MAPPROJECT-EXT1-V4.0"
DATA_SET_NAME = "MARS EXPRESS HRSC MAP PROJECTED REFDR EXTENSION1 V4.0"
DETECTOR_ID = MEX_HRSC_P2
EVENT_TYPE = "MARS-REGIONAL-MAPPING-Gl-Eo-La"
INSTRUMENT_HOST_ID = MEX
INSTRUMENT_HOST_NAME = "MARS EXPRESS"
INSTRUMENT_ID = HRSC
INSTRUMENT_NAME = "HIGH RESOLUTION STEREO CAMERA"
MISSION_NAME = "MARS EXPRESS"
MISSION_PHASE_NAME = ME_Phase_1
PROCESSING_LEVEL_ID = 4
PRODUCT_CREATION_TIME = 2023-02-08T07:05:14.000Z
PRODUCT_ID = "H2428_0000_P24.TIF"
RELEASE_ID = 0001
REVISION_ID = 0000
/* QUALITY DATA ELEMENTS */
DATA_QUALITY_ID = 1
DATA_QUALITY_DESC = "Data calculated based on original SPICE kernels"
/* TIME DATA ELEMENTS */
SPACECRAFT_CLOCK_START_COUNT = "1/0081696974.57150"
SPACECRAFT_CLOCK_STOP_COUNT = "1/0081697179.22982"
START_TIME = 2005-12-03T13:37:13.449Z
STOP_TIME = 2005-12-03T13:39:35.627Z
/* ORBITAL DATA ELEMENTS */
ASCENDING_NODE_LONGITUDE = 177.29
MAXIMUM_RESOLUTION = 0.0461
FOOTPRINT_POINT_LATITUDE = (-82.9575,-83.2475,-83.4499,-83.6369, -83.6425,-83.676,-83.5097,-83.341, -83.1702,-83.0031,-82.8342,-82.6635, -82.4913,-82.3176,-82.1426,-81.8776, -81.6996,-81.522,-81.3481,-81.1732, -80.9974,-80.7323,-80.5547,-80.3764, -80.1975,-80.0181,-79.8383,-79.6576, -79.3909,-79.2158,-79.0396,-78.7749, -78.5983,-78.4227,-78.1541,-77.975, -77.7965,-77.5285,-77.3492,-77.0793, -76.9034,-76.6439,-76.2963,-76.1218, -75.9473,-75.7724,-75.5977,-75.3356, -75.1602,-74.9844,-74.8968,-74.8954, -74.8258,-74.757,-74.6679,-74.6653, -74.6652,-75.0075,-75.1784,-75.519, -75.8582,-76.1961,-76.3654,-76.6173, -76.7875,-76.9609,-77.1342,-77.3071, -77.5654,-77.8224,-78.0784,-78.3331, -78.5022,-78.6706,-78.8385,-79.089, -79.2578,-79.4291,-79.6844,-79.8534, -80.0215,-80.2716,-80.4369,-80.601, -80.7639,-80.9255,-81.087,-81.2514, -81.4141,-81.5752,-81.7344,-81.8916, -82.0468,-82.1999,-82.3506,-82.4989, -82.6495,-82.87,-82.942,-82.9575)
FOOTPRINT_POINT_LONGITUDE = (192.377,195.234,197.491,199.816,199.89 ,199.379,200.488,201.541,202.54,203.46, 204.338,205.174,205.973,206.736,207.464 ,208.499,209.151,209.771,210.35,210.906 ,211.441,212.204,212.689,213.156, 213.605,214.037,214.452,214.855,215.428 ,215.783,216.13,216.628,216.944,217.244 ,217.701,217.991,218.269,218.669, 218.927,219.303,219.539,219.871,220.298 ,220.505,220.706,220.903,221.094,221.37 ,221.55,221.727,221.813,221.815,220.521 ,219.373,218.005,217.967,217.954, 217.508,217.276,216.8,216.303,215.782, 215.498,215.082,214.785,214.481,214.162 ,213.834,213.325,212.799,212.247, 211.668,211.266,210.855,210.426,209.76, 209.29,208.797,208.026,207.492,206.936, 206.069,205.463,204.839,204.192,203.525 ,202.826,202.08,201.304,200.498,199.661 ,198.791,197.886,196.944,195.966, 194.948,193.854,192.123,191.522, 192.377)
ORBIT_NUMBER = 2428
ORBITAL_ECCENTRICITY = 0.572
ORBITAL_INCLINATION = 86.63
ORBITAL_SEMIMAJOR_AXIS = 8536.54
PERIAPSIS_ALTITUDE = 272.91
PERIAPSIS_ARGUMENT_ANGLE = 291.45
PERIAPSIS_TIME = 2005-12-03T13:41:01.000Z
SPACECRAFT_ORIENTATION = (0.0,-1.0,0.0)
^MEX_ORIENTATION_DESC = "MEX_ORIENTATION_DESC.TXT"
SPACECRAFT_POINTING_MODE = ACROSSTRACK
^MEX_POINTING_DESC = "MEX_POINTING_DESC.TXT"
RIGHT_ASCENSION = -1e+32
DECLINATION = -1e+32
OFFSET_ANGLE = 1.05
SPACECRAFT_SOLAR_DISTANCE = 2.23527e+08
TARGET_NAME = MARS
/* CAMERA DATA ELEMENTS */
DETECTOR_TEMPERATURE = 18.5744
FOCAL_PLANE_TEMPERATURE = 8.3794
INST_CMPRS_NAME = "DISCRETE COSINE TRANSFORMATION (DCT)"
INST_CMPRS_RATIO = 21.8418
INST_CMPRS_QUALITY = 0
INST_CMPRS_QUANTZ_TBL_ID = 0
INSTRUMENT_TEMPERATURE = 11.0301
LENS_TEMPERATURE = 8.5833
MACROPIXEL_SIZE = 4
MISSING_FRAMES = 0
PIXEL_SUBSAMPLING_FLAG = N
SIGNAL_CHAIN_ID = 3
/* RADIOMETRIC DATA ELEMENTS */
BANDWIDTH = 177.0
CENTER_FILTER_WAVELENGTH = 676.5
RADIANCE_OFFSET = 2.33758
RADIANCE_SCALING_FACTOR = 0.00883959
REFLECTANCE_SCALING_FACTOR = 0.00023418
MEX:REFLECTANCE_OFFSET = 0.0619276
/* IMAGE OBJECT DEFINITIONS */
OBJECT = IMAGE
  INTERCHANGE_FORMAT = BINARY
  LINES = 10766
  LINE_SAMPLES = 5847
  SAMPLE_TYPE = UNSIGNED_INTEGER
  SAMPLE_BITS = 8
  BANDS = 1
  BAND_STORAGE_TYPE = BAND_SEQUENTIAL
  MAXIMUM = 255
  MEAN = 106.985
  MINIMUM = 3
  STANDARD_DEVIATION = 58.2361
END_OBJECT = IMAGE
/* MAP OBJECT DEFINITIONS */
OBJECT = IMAGE_MAP_PROJECTION
  ^DATA_SET_MAP_PROJECTION_CATALOG= "DSMAP.CAT"
  A_AXIS_RADIUS = 3396.0
  B_AXIS_RADIUS = 3396.0
  C_AXIS_RADIUS = 3396.0
  CENTER_LATITUDE = 0.0
  CENTER_LONGITUDE = 213.0
  COORDINATE_SYSTEM_NAME = PLANETOGRAPHIC
  COORDINATE_SYSTEM_TYPE = "BODY-FIXED ROTATING"
  EASTERNMOST_LONGITUDE = 221.815
  FIRST_STANDARD_PARALLEL = "N/A"
  LINE_FIRST_PIXEL = 1
  LINE_LAST_PIXEL = 10766
  LINE_PROJECTION_OFFSET = -88491.375
  MAP_PROJECTION_ROTATION = 0.0
  MAP_PROJECTION_TYPE = SINUSOIDAL
  MAP_RESOLUTION = 1185.42760773333
  MAP_SCALE = 0.05
  MAXIMUM_LATITUDE = -74.6652
  MINIMUM_LATITUDE = -83.676
  POSITIVE_LONGITUDE_DIRECTION = EAST
  REFERENCE_LATITUDE = "N/A"
  REFERENCE_LONGITUDE = "N/A"
  SAMPLE_FIRST_PIXEL = 1
  SAMPLE_LAST_PIXEL = 5847
  SAMPLE_PROJECTION_OFFSET = 3136.125
  SECOND_STANDARD_PARALLEL = "N/A"
  WESTERNMOST_LONGITUDE = 191.522
END_OBJECT = IMAGE_MAP_PROJECTION
END
