PDS_VERSION_ID = PDS3
/* FILE DATA ELEMENTS */
RECORD_TYPE = UNDEFINED
/* POINTERS TO DATA OBJECTS */
^IMAGE = ("H2427_0001_SR4.TIF")
/* IDENTIFICATION DATA ELEMENTS */
DATA_SET_ID = "MEX-M-HRSC-4-REFDR-MAPPROJECT-EXT1-V4.0"
DATA_SET_NAME = "MARS EXPRESS HRSC MAP PROJECTED REFDR EXTENSION1 V4.0"
DETECTOR_ID = MEX_HRSC_SRC
EVENT_TYPE = "MARS-REGIONAL-MAPPING-Gl-Eo"
INSTRUMENT_HOST_ID = MEX
INSTRUMENT_HOST_NAME = "MARS EXPRESS"
INSTRUMENT_ID = HRSC
INSTRUMENT_NAME = "HIGH RESOLUTION STEREO CAMERA"
MISSION_NAME = "MARS EXPRESS"
MISSION_PHASE_NAME = ME_Phase_1
PROCESSING_LEVEL_ID = 4
PRODUCT_CREATION_TIME = 2023-02-08T07:05:14.000Z
PRODUCT_ID = "H2427_0001_SR4.TIF"
RELEASE_ID = 0001
REVISION_ID = 0000
/* QUALITY DATA ELEMENTS */
DATA_QUALITY_ID = 1
DATA_QUALITY_DESC = "Data calculated based on original SPICE kernels"
/* TIME DATA ELEMENTS */
SPACECRAFT_CLOCK_START_COUNT = "1/0081672899.56183"
SPACECRAFT_CLOCK_STOP_COUNT = "1/0081673131.55842"
IMAGE_TIME = 2005-12-03T06:55:58.804Z
START_TIME = 2005-12-03T06:55:58.546Z
STOP_TIME = 2005-12-03T06:55:59.062Z
/* ORBITAL DATA ELEMENTS */
ASCENDING_NODE_LONGITUDE = 177.31
MAXIMUM_RESOLUTION = 0.002632
FOOTPRINT_POINT_LATITUDE = (-76.647,-76.6489,-76.6508,-76.6531, -76.6549,-76.6569,-76.6583,-76.6597, -76.6612,-76.6635,-76.6669,-76.6692, -76.6713,-76.6727,-76.6748,-76.677, -76.679,-76.6818,-76.6842,-76.687, -76.689,-76.6909,-76.691,-76.691, -76.6903,-76.6899,-76.6895,-76.6892, -76.6886,-76.6882,-76.6878,-76.6874, -76.687,-76.6866,-76.6862,-76.6858, -76.6855,-76.6851,-76.6847,-76.6843, -76.6839,-76.6835,-76.6831,-76.6827, -76.6823,-76.6819,-76.6815,-76.6812, -76.6811,-76.681,-76.6786,-76.6766, -76.6735,-76.6715,-76.6694,-76.6672, -76.6653,-76.6633,-76.662,-76.6604, -76.658,-76.6556,-76.6539,-76.651, -76.6491,-76.6477,-76.646,-76.6437, -76.6418,-76.639,-76.6372,-76.6372, -76.6372,-76.6376,-76.638,-76.6384, -76.6387,-76.6391,-76.6395,-76.6399, -76.6403,-76.6407,-76.6411,-76.6415, -76.6418,-76.6422,-76.6426,-76.6431, -76.6435,-76.6439,-76.6443,-76.6447, -76.645,-76.6454,-76.6458,-76.6462, -76.6466,-76.6469,-76.647,-76.647)
FOOTPRINT_POINT_LONGITUDE = (322.323,322.322,322.32,322.318,322.316 ,322.314,322.313,322.311,322.31,322.308 ,322.304,322.302,322.3,322.299,322.297, 322.295,322.293,322.29,322.288,322.285, 322.283,322.282,322.282,322.282,322.27, 322.262,322.255,322.247,322.236,322.228 ,322.221,322.213,322.205,322.198,322.19 ,322.183,322.175,322.167,322.16,322.152 ,322.145,322.137,322.13,322.122,322.114 ,322.107,322.099,322.092,322.09,322.089 ,322.091,322.093,322.096,322.098,322.1, 322.102,322.104,322.106,322.107,322.109 ,322.111,322.113,322.115,322.118,322.12 ,322.121,322.123,322.125,322.127, 322.129,322.131,322.131,322.131,322.139 ,322.147,322.154,322.162,322.169, 322.177,322.184,322.192,322.199,322.207 ,322.215,322.222,322.23,322.237,322.247 ,322.254,322.262,322.269,322.277, 322.284,322.292,322.3,322.307,322.315, 322.32,322.322,322.323)
ORBIT_NUMBER = 2427
ORBITAL_ECCENTRICITY = 0.572
ORBITAL_INCLINATION = 86.63
ORBITAL_SEMIMAJOR_AXIS = 8536.42
PERIAPSIS_ALTITUDE = 273.74
PERIAPSIS_ARGUMENT_ANGLE = 291.64
PERIAPSIS_TIME = 2005-12-03T06:58:08.000Z
SPACECRAFT_ORIENTATION = (0.0,-1.0,0.0)
^MEX_ORIENTATION_DESC = "MEX_ORIENTATION_DESC.TXT"
SPACECRAFT_POINTING_MODE = ACROSSTRACK
^MEX_POINTING_DESC = "MEX_POINTING_DESC.TXT"
RIGHT_ASCENSION = -1e+32
DECLINATION = -1e+32
OFFSET_ANGLE = -0.3
SPACECRAFT_SOLAR_DISTANCE = 2.23473e+08
TARGET_NAME = MARS
/* CAMERA DATA ELEMENTS */
BUFFER_MODE_ID = BUFFER_8
EXPOSURE_DURATION = 516.096
INST_CMPRS_NAME = NONE
INST_CMPRS_RATIO = 1.0
INST_CMPRS_QUALITY = -2147483648
INST_CMPRS_QUANTZ_TBL_ID = -2147483648
INSTRUMENT_TEMPERATURE = 5.15152
MISSING_FRAMES = 0
START_BIT = 0
/* RADIOMETRIC DATA ELEMENTS */
BANDWIDTH = 250.0
CENTER_FILTER_WAVELENGTH = 600.0
RADIANCE_OFFSET = -9.99e+31
RADIANCE_SCALING_FACTOR = -9.99e+31
REFLECTANCE_SCALING_FACTOR = -9.99e+31
MEX:REFLECTANCE_OFFSET = -9.99e+31
/* IMAGE OBJECT DEFINITIONS */
OBJECT = IMAGE
  INTERCHANGE_FORMAT = BINARY
  LINES = 1397
  LINE_SAMPLES = 1412
  SAMPLE_TYPE = UNSIGNED_INTEGER
  SAMPLE_BITS = 8
  BANDS = 1
  BAND_STORAGE_TYPE = BAND_SEQUENTIAL
  MAXIMUM = 255
  MEAN = 254.99
  MINIMUM = 61
  STANDARD_DEVIATION = 0.813377
END_OBJECT = IMAGE
/* MAP OBJECT DEFINITIONS */
OBJECT = IMAGE_MAP_PROJECTION
  ^DATA_SET_MAP_PROJECTION_CATALOG= "DSMAP.CAT"
  A_AXIS_RADIUS = 3396.19
  B_AXIS_RADIUS = 3396.19
  C_AXIS_RADIUS = 3396.19
  CENTER_LATITUDE = 0.0
  CENTER_LONGITUDE = 322.0
  COORDINATE_SYSTEM_NAME = PLANETOGRAPHIC
  COORDINATE_SYSTEM_TYPE = "BODY-FIXED ROTATING"
  EASTERNMOST_LONGITUDE = 322.323
  FIRST_STANDARD_PARALLEL = "N/A"
  LINE_FIRST_PIXEL = 1
  LINE_LAST_PIXEL = 1397
  LINE_PROJECTION_OFFSET = -1812673.0
  MAP_PROJECTION_ROTATION = 0.0
  MAP_PROJECTION_TYPE = SINUSOIDAL
  MAP_RESOLUTION = 23709.8786048756
  MAP_SCALE = 0.0025
  MAXIMUM_LATITUDE = -76.63720000000001
  MINIMUM_LATITUDE = -76.691
  POSITIVE_LONGITUDE_DIRECTION = EAST
  REFERENCE_LATITUDE = "N/A"
  REFERENCE_LONGITUDE = "N/A"
  SAMPLE_FIRST_PIXEL = 1
  SAMPLE_LAST_PIXEL = 1412
  SAMPLE_PROJECTION_OFFSET = -934.0
  SECOND_STANDARD_PARALLEL = "N/A"
  WESTERNMOST_LONGITUDE = 322.089
END_OBJECT = IMAGE_MAP_PROJECTION
END
