PDS_VERSION_ID = PDS3
/* FILE DATA ELEMENTS */
RECORD_TYPE = UNDEFINED
/* POINTERS TO DATA OBJECTS */
^IMAGE = ("H2427_0000_RE4.TIF")
/* IDENTIFICATION DATA ELEMENTS */
DATA_SET_ID = "MEX-M-HRSC-4-REFDR-MAPPROJECT-EXT1-V4.0"
DATA_SET_NAME = "MARS EXPRESS HRSC MAP PROJECTED REFDR EXTENSION1 V4.0"
DETECTOR_ID = MEX_HRSC_RED
EVENT_TYPE = "MARS-REGIONAL-MAPPING-Gl-Eo"
INSTRUMENT_HOST_ID = MEX
INSTRUMENT_HOST_NAME = "MARS EXPRESS"
INSTRUMENT_ID = HRSC
INSTRUMENT_NAME = "HIGH RESOLUTION STEREO CAMERA"
MISSION_NAME = "MARS EXPRESS"
MISSION_PHASE_NAME = ME_Phase_1
PROCESSING_LEVEL_ID = 4
PRODUCT_CREATION_TIME = 2023-02-08T07:05:14.000Z
PRODUCT_ID = "H2427_0000_RE4.TIF"
RELEASE_ID = 0001
REVISION_ID = 0000
/* QUALITY DATA ELEMENTS */
DATA_QUALITY_ID = 1
DATA_QUALITY_DESC = "Data calculated based on original SPICE kernels"
/* TIME DATA ELEMENTS */
SPACECRAFT_CLOCK_START_COUNT = "1/0081672899.56183"
SPACECRAFT_CLOCK_STOP_COUNT = "1/0081673131.55842"
START_TIME = 2005-12-03T06:55:55.133Z
STOP_TIME = 2005-12-03T06:58:52.641Z
/* ORBITAL DATA ELEMENTS */
ASCENDING_NODE_LONGITUDE = 177.31
MAXIMUM_RESOLUTION = 0.0453
FOOTPRINT_POINT_LATITUDE = (-78.0666,-78.149,-78.2264,-78.32, -78.3221,-78.4149,-78.1719,-77.9286, -77.6849,-77.319,-77.0746,-76.7078, -76.4629,-76.2183,-75.975,-75.7388, -75.5031,-75.2677,-74.9138,-74.6776, -74.442,-74.2057,-73.8513,-73.6152, -73.3786,-73.1469,-72.9113,-72.675, -72.439,-72.085,-71.8475,-71.4935, -71.2578,-71.0217,-70.6683,-70.432, -70.1964,-69.8428,-69.6074,-69.372, -69.1388,-68.9025,-68.5508,-68.3157, -68.0809,-67.7286,-67.4939,-67.1423, -66.9075,-66.6733,-66.5561,-66.549, -66.522,-66.4794,-66.4251,-66.4238, -66.424,-66.7736,-67.1223,-67.4721, -67.7051,-67.9385,-68.1718,-68.4045, -68.6393,-68.9907,-69.3393,-69.5729, -69.8066,-70.157,-70.5076,-70.8582, -71.092,-71.3254,-71.5588,-71.9103, -72.1447,-72.3775,-72.6105,-72.8434, -73.0774,-73.3103,-73.6599,-73.8928, -74.1255,-74.4739,-74.7058,-75.0535, -75.2854,-75.633,-75.9879,-76.2281, -76.468,-76.7076,-76.9468,-77.3048, -77.6622,-78.0179,-78.1364,-78.0666)
FOOTPRINT_POINT_LONGITUDE = (318.228,319.542,320.885,322.692, 322.736,322.899,323.145,323.381,323.608 ,323.931,324.136,324.428,324.614, 324.793,324.963,325.123,325.278,325.428 ,325.644,325.781,325.915,326.044, 326.231,326.351,326.466,326.586,326.696 ,326.802,326.906,327.056,327.15,327.29, 327.381,327.468,327.596,327.677,327.758 ,327.874,327.949,328.023,328.097, 328.166,328.269,328.335,328.399,328.493 ,328.554,328.643,328.7,328.756,328.783, 328.785,328.219,327.391,326.421,326.399 ,326.392,326.278,326.16,326.037,325.953 ,325.866,325.778,325.687,325.593, 325.447,325.298,325.194,325.088,324.923 ,324.751,324.572,324.448,324.321,324.19 ,323.986,323.845,323.7,323.552,323.399, 323.24,323.077,322.823,322.646,322.465, 322.181,321.985,321.678,321.464,321.129 ,320.767,320.512,320.246,319.97,319.684 ,319.234,318.756,318.249,318.072, 318.228)
ORBIT_NUMBER = 2427
ORBITAL_ECCENTRICITY = 0.572
ORBITAL_INCLINATION = 86.63
ORBITAL_SEMIMAJOR_AXIS = 8536.42
PERIAPSIS_ALTITUDE = 273.74
PERIAPSIS_ARGUMENT_ANGLE = 291.64
PERIAPSIS_TIME = 2005-12-03T06:58:08.000Z
SPACECRAFT_ORIENTATION = (0.0,-1.0,0.0)
^MEX_ORIENTATION_DESC = "MEX_ORIENTATION_DESC.TXT"
SPACECRAFT_POINTING_MODE = ACROSSTRACK
^MEX_POINTING_DESC = "MEX_POINTING_DESC.TXT"
RIGHT_ASCENSION = -1e+32
DECLINATION = -1e+32
OFFSET_ANGLE = -0.3
SPACECRAFT_SOLAR_DISTANCE = 2.23473e+08
TARGET_NAME = MARS
/* CAMERA DATA ELEMENTS */
DETECTOR_TEMPERATURE = 18.5744
FOCAL_PLANE_TEMPERATURE = 7.9716
INST_CMPRS_NAME = "DISCRETE COSINE TRANSFORMATION (DCT)"
INST_CMPRS_RATIO = 29.4472
INST_CMPRS_QUALITY = 0
INST_CMPRS_QUANTZ_TBL_ID = 0
INSTRUMENT_TEMPERATURE = 11.0301
LENS_TEMPERATURE = 8.5833
MACROPIXEL_SIZE = 4
MISSING_FRAMES = 0
PIXEL_SUBSAMPLING_FLAG = N
SIGNAL_CHAIN_ID = 2
/* RADIOMETRIC DATA ELEMENTS */
BANDWIDTH = 48.0
CENTER_FILTER_WAVELENGTH = 748.0
RADIANCE_OFFSET = 0.857667
RADIANCE_SCALING_FACTOR = 0.00323648
REFLECTANCE_SCALING_FACTOR = 0.00036885
MEX:REFLECTANCE_OFFSET = 0.0977452
/* IMAGE OBJECT DEFINITIONS */
OBJECT = IMAGE
  INTERCHANGE_FORMAT = BINARY
  LINES = 14206
  LINE_SAMPLES = 3491
  SAMPLE_TYPE = UNSIGNED_INTEGER
  SAMPLE_BITS = 8
  BANDS = 1
  BAND_STORAGE_TYPE = BAND_SEQUENTIAL
  MAXIMUM = 255
  MEAN = 128.092
  MINIMUM = 1
  STANDARD_DEVIATION = 33.0121
END_OBJECT = IMAGE
/* MAP OBJECT DEFINITIONS */
OBJECT = IMAGE_MAP_PROJECTION
  ^DATA_SET_MAP_PROJECTION_CATALOG= "DSMAP.CAT"
  A_AXIS_RADIUS = 3396.0
  B_AXIS_RADIUS = 3396.0
  C_AXIS_RADIUS = 3396.0
  CENTER_LATITUDE = 0.0
  CENTER_LONGITUDE = 325.0
  COORDINATE_SYSTEM_NAME = PLANETOGRAPHIC
  COORDINATE_SYSTEM_TYPE = "BODY-FIXED ROTATING"
  EASTERNMOST_LONGITUDE = 328.785
  FIRST_STANDARD_PARALLEL = "N/A"
  LINE_FIRST_PIXEL = 1
  LINE_LAST_PIXEL = 14206
  LINE_PROJECTION_OFFSET = -78763.875
  MAP_PROJECTION_ROTATION = 0.0
  MAP_PROJECTION_TYPE = SINUSOIDAL
  MAP_RESOLUTION = 1185.42760773333
  MAP_SCALE = 0.05
  MAXIMUM_LATITUDE = -66.4238
  MINIMUM_LATITUDE = -78.4149
  POSITIVE_LONGITUDE_DIRECTION = EAST
  REFERENCE_LATITUDE = "N/A"
  REFERENCE_LONGITUDE = "N/A"
  SAMPLE_FIRST_PIXEL = 1
  SAMPLE_LAST_PIXEL = 3491
  SAMPLE_PROJECTION_OFFSET = 1710.125
  SECOND_STANDARD_PARALLEL = "N/A"
  WESTERNMOST_LONGITUDE = 318.072
END_OBJECT = IMAGE_MAP_PROJECTION
END
