PDS_VERSION_ID = PDS3
/* FILE DATA ELEMENTS */
RECORD_TYPE = UNDEFINED
/* POINTERS TO DATA OBJECTS */
^IMAGE = ("H2427_0000_ND4.TIF")
/* IDENTIFICATION DATA ELEMENTS */
DATA_SET_ID = "MEX-M-HRSC-4-REFDR-MAPPROJECT-EXT1-V4.0"
DATA_SET_NAME = "MARS EXPRESS HRSC MAP PROJECTED REFDR EXTENSION1 V4.0"
DETECTOR_ID = MEX_HRSC_NADIR
EVENT_TYPE = "MARS-REGIONAL-MAPPING-Gl-Eo"
INSTRUMENT_HOST_ID = MEX
INSTRUMENT_HOST_NAME = "MARS EXPRESS"
INSTRUMENT_ID = HRSC
INSTRUMENT_NAME = "HIGH RESOLUTION STEREO CAMERA"
MISSION_NAME = "MARS EXPRESS"
MISSION_PHASE_NAME = ME_Phase_1
PROCESSING_LEVEL_ID = 4
PRODUCT_CREATION_TIME = 2023-02-08T07:05:14.000Z
PRODUCT_ID = "H2427_0000_ND4.TIF"
RELEASE_ID = 0001
REVISION_ID = 0000
/* QUALITY DATA ELEMENTS */
DATA_QUALITY_ID = 1
DATA_QUALITY_DESC = "Data calculated based on original SPICE kernels"
/* TIME DATA ELEMENTS */
SPACECRAFT_CLOCK_START_COUNT = "1/0081672899.56183"
SPACECRAFT_CLOCK_STOP_COUNT = "1/0081673131.55842"
START_TIME = 2005-12-03T06:55:33.744Z
STOP_TIME = 2005-12-03T06:58:32.748Z
/* ORBITAL DATA ELEMENTS */
ASCENDING_NODE_LONGITUDE = 177.31
MAXIMUM_RESOLUTION = 0.0108
FOOTPRINT_POINT_LATITUDE = (-78.1679,-78.2504,-78.3291,-78.4115, -78.4136,-78.426,-78.1781,-77.9298, -77.5597,-77.3198,-77.0796,-76.839, -76.5983,-76.3572,-76.116,-75.8745, -75.6327,-75.3908,-75.1487,-74.9063, -74.6641,-74.1973,-73.7298,-73.3787, -73.145,-72.9107,-72.6763,-72.4417, -72.2071,-71.8548,-71.62,-71.385, -71.1499,-70.9147,-70.6796,-70.4442, -70.2088,-69.9734,-69.7379,-69.5023, -69.1491,-68.9133,-68.6777,-68.4419, -68.2062,-67.9703,-67.7345,-67.4986, -67.2627,-67.0268,-66.6729,-66.555, -66.5489,-66.4954,-66.4446,-66.4434, -66.443,-66.6775,-66.912,-67.1465, -67.498,-67.7324,-67.9666,-68.2008, -68.4349,-68.669,-68.9029,-69.2537, -69.4874,-69.721,-69.9545,-70.1879, -70.4211,-70.6543,-70.8873,-71.1201, -71.5854,-72.166,-72.6296,-73.0925, -73.5545,-74.0155,-74.4755,-74.7138, -74.9522,-75.1903,-75.4281,-75.6655, -75.9025,-76.1391,-76.3753,-76.6111, -76.8464,-77.0813,-77.3157,-77.5553, -77.7976,-78.0392,-78.1598,-78.1679)
FOOTPRINT_POINT_LONGITUDE = (318.018,319.407,320.874,322.611, 322.659,322.916,323.166,323.406,323.743 ,323.952,324.152,324.343,324.529, 324.707,324.88,325.046,325.205,325.362, 325.512,325.657,325.797,326.055,326.298 ,326.469,326.589,326.698,326.803, 326.904,327.004,327.145,327.24,327.329, 327.418,327.503,327.587,327.668,327.748 ,327.825,327.901,327.975,328.086, 328.154,328.224,328.29,328.355,328.418, 328.481,328.541,328.6,328.659,328.743, 328.77,328.772,327.466,326.42,326.397, 326.386,326.309,326.23,326.15,326.025, 325.94,325.852,325.762,325.67,325.575, 325.477,325.327,325.224,325.118,325.009 ,324.897,324.782,324.664,324.543, 324.418,324.159,323.812,323.518,323.206 ,322.875,322.523,322.148,321.945, 321.734,321.516,321.29,321.057,320.815, 320.564,320.304,320.035,319.756,319.466 ,319.165,318.845,318.507,318.155, 317.973,318.018)
ORBIT_NUMBER = 2427
ORBITAL_ECCENTRICITY = 0.572
ORBITAL_INCLINATION = 86.63
ORBITAL_SEMIMAJOR_AXIS = 8536.42
PERIAPSIS_ALTITUDE = 273.74
PERIAPSIS_ARGUMENT_ANGLE = 291.64
PERIAPSIS_TIME = 2005-12-03T06:58:08.000Z
SPACECRAFT_ORIENTATION = (0.0,-1.0,0.0)
^MEX_ORIENTATION_DESC = "MEX_ORIENTATION_DESC.TXT"
SPACECRAFT_POINTING_MODE = ACROSSTRACK
^MEX_POINTING_DESC = "MEX_POINTING_DESC.TXT"
RIGHT_ASCENSION = -1e+32
DECLINATION = -1e+32
OFFSET_ANGLE = -0.3
SPACECRAFT_SOLAR_DISTANCE = 2.23473e+08
TARGET_NAME = MARS
/* CAMERA DATA ELEMENTS */
DETECTOR_TEMPERATURE = 18.9822
FOCAL_PLANE_TEMPERATURE = 7.9716
INST_CMPRS_NAME = "DISCRETE COSINE TRANSFORMATION (DCT)"
INST_CMPRS_RATIO = 7.4416
INST_CMPRS_QUALITY = 0
INST_CMPRS_QUANTZ_TBL_ID = 0
INSTRUMENT_TEMPERATURE = 11.0301
LENS_TEMPERATURE = 8.5833
MACROPIXEL_SIZE = 1
MISSING_FRAMES = 0
PIXEL_SUBSAMPLING_FLAG = N
SIGNAL_CHAIN_ID = 0
/* RADIOMETRIC DATA ELEMENTS */
BANDWIDTH = 177.0
CENTER_FILTER_WAVELENGTH = 677.5
RADIANCE_OFFSET = 2.83118
RADIANCE_SCALING_FACTOR = 0.010885
REFLECTANCE_SCALING_FACTOR = 0.000288776
MEX:REFLECTANCE_OFFSET = 0.0751108
/* IMAGE OBJECT DEFINITIONS */
OBJECT = IMAGE
  INTERCHANGE_FORMAT = BINARY
  LINES = 56822
  LINE_SAMPLES = 13961
  SAMPLE_TYPE = UNSIGNED_INTEGER
  SAMPLE_BITS = 8
  BANDS = 1
  BAND_STORAGE_TYPE = BAND_SEQUENTIAL
  MAXIMUM = 255
  MEAN = 123.27
  MINIMUM = 1
  STANDARD_DEVIATION = 30.7644
END_OBJECT = IMAGE
/* MAP OBJECT DEFINITIONS */
OBJECT = IMAGE_MAP_PROJECTION
  ^DATA_SET_MAP_PROJECTION_CATALOG= "DSMAP.CAT"
  A_AXIS_RADIUS = 3396.0
  B_AXIS_RADIUS = 3396.0
  C_AXIS_RADIUS = 3396.0
  CENTER_LATITUDE = 0.0
  CENTER_LONGITUDE = 325.0
  COORDINATE_SYSTEM_NAME = PLANETOGRAPHIC
  COORDINATE_SYSTEM_TYPE = "BODY-FIXED ROTATING"
  EASTERNMOST_LONGITUDE = 328.772
  FIRST_STANDARD_PARALLEL = "N/A"
  LINE_FIRST_PIXEL = 1
  LINE_LAST_PIXEL = 56822
  LINE_PROJECTION_OFFSET = -315054.0
  MAP_PROJECTION_ROTATION = 0.0
  MAP_PROJECTION_TYPE = SINUSOIDAL
  MAP_RESOLUTION = 4741.71043093333
  MAP_SCALE = 0.0125
  MAXIMUM_LATITUDE = -66.443
  MINIMUM_LATITUDE = -78.426
  POSITIVE_LONGITUDE_DIRECTION = EAST
  REFERENCE_LATITUDE = "N/A"
  REFERENCE_LONGITUDE = "N/A"
  SAMPLE_FIRST_PIXEL = 1
  SAMPLE_LAST_PIXEL = 13961
  SAMPLE_PROJECTION_OFFSET = 6842.0
  SECOND_STANDARD_PARALLEL = "N/A"
  WESTERNMOST_LONGITUDE = 317.973
END_OBJECT = IMAGE_MAP_PROJECTION
END
