PDS_VERSION_ID = PDS3
/* FILE DATA ELEMENTS */
RECORD_TYPE = UNDEFINED
/* POINTERS TO DATA OBJECTS */
^IMAGE = ("H2424_0000_P24.TIF")
/* IDENTIFICATION DATA ELEMENTS */
DATA_SET_ID = "MEX-M-HRSC-4-REFDR-MAPPROJECT-EXT1-V4.0"
DATA_SET_NAME = "MARS EXPRESS HRSC MAP PROJECTED REFDR EXTENSION1 V4.0"
DETECTOR_ID = MEX_HRSC_P2
EVENT_TYPE = "MARS-REGIONAL-MAPPING-Te-Im"
INSTRUMENT_HOST_ID = MEX
INSTRUMENT_HOST_NAME = "MARS EXPRESS"
INSTRUMENT_ID = HRSC
INSTRUMENT_NAME = "HIGH RESOLUTION STEREO CAMERA"
MISSION_NAME = "MARS EXPRESS"
MISSION_PHASE_NAME = ME_Phase_1
PROCESSING_LEVEL_ID = 4
PRODUCT_CREATION_TIME = 2023-02-08T07:05:14.000Z
PRODUCT_ID = "H2424_0000_P24.TIF"
RELEASE_ID = 0001
REVISION_ID = 0000
/* QUALITY DATA ELEMENTS */
DATA_QUALITY_ID = 1
DATA_QUALITY_DESC = "Data calculated based on original SPICE kernels"
/* TIME DATA ELEMENTS */
SPACECRAFT_CLOCK_START_COUNT = "1/0081600548.57952"
SPACECRAFT_CLOCK_STOP_COUNT = "1/0081600908.01521"
START_TIME = 2005-12-02T10:49:55.179Z
STOP_TIME = 2005-12-02T10:55:00.559Z
/* ORBITAL DATA ELEMENTS */
ASCENDING_NODE_LONGITUDE = 177.37
MAXIMUM_RESOLUTION = 0.0447
FOOTPRINT_POINT_LATITUDE = (-66.2875,-66.3323,-66.3914,-66.3923, -66.4502,-66.0935,-65.7369,-65.1818, -64.8107,-64.4398,-64.0693,-63.5144, -63.1449,-62.7752,-62.4061,-61.8531, -61.483,-61.1153,-60.5653,-60.2001, -59.8212,-59.4416,-58.8727,-58.4938, -57.9255,-57.3588,-56.9685,-56.5766, -56.1857,-55.6,-55.0123,-54.614, -54.2108,-53.8105,-53.4109,-53.0012, -52.5889,-52.1778,-51.7673,-51.1343, -50.7122,-50.0748,-49.642,-49.2103, -48.78,-48.3511,-47.9227,-47.4962, -47.0706,-46.8583,-46.7886,-46.7677, -46.7463,-46.7458,-46.7464,-47.3829, -47.805,-48.2322,-48.8764,-49.3067, -49.7383,-50.3807,-50.8012,-51.2225, -51.6443,-52.0552,-52.4649,-52.8762, -53.2872,-53.6857,-54.0848,-54.4847, -54.8847,-55.4728,-55.861,-56.2499, -56.6392,-57.0291,-57.6038,-57.9853, -58.3562,-58.7335,-59.1122,-59.6797, -60.2451,-60.6136,-61.157,-61.7074, -62.0741,-62.6253,-62.994,-63.3594, -63.9146,-64.2831,-64.8334,-65.2022, -65.7491,-66.1032,-66.2809,-66.2875)
FOOTPRINT_POINT_LONGITUDE = (259.668,260.547,261.874,261.895, 261.912,262.015,262.115,262.265,262.361 ,262.454,262.544,262.673,262.757, 262.837,262.916,263.029,263.101,263.172 ,263.274,263.34,263.407,263.471,263.565 ,263.625,263.712,263.796,263.851, 263.906,263.958,264.034,264.108,264.159 ,264.206,264.252,264.298,264.343, 264.387,264.431,264.473,264.535,264.576 ,264.636,264.675,264.713,264.751, 264.787,264.823,264.857,264.891,264.908 ,264.913,263.921,263.057,263.039, 263.034,262.992,262.967,262.936,262.886 ,262.851,262.815,262.759,262.72,262.679 ,262.637,262.593,262.549,262.502, 262.454,262.406,262.356,262.304,262.251 ,262.169,262.112,262.053,261.992, 261.929,261.829,261.756,261.697,261.627 ,261.553,261.44,261.317,261.231,261.114 ,260.98,260.887,260.742,260.639,260.539 ,260.37,260.256,260.083,259.959,259.766 ,259.637,259.569,259.668)
ORBIT_NUMBER = 2424
ORBITAL_ECCENTRICITY = 0.572
ORBITAL_INCLINATION = 86.62
ORBITAL_SEMIMAJOR_AXIS = 8538.16
PERIAPSIS_ALTITUDE = 273.16
PERIAPSIS_ARGUMENT_ANGLE = 292.15
PERIAPSIS_TIME = 2005-12-02T10:49:22.000Z
SPACECRAFT_ORIENTATION = (0.0,-1.0,0.0)
^MEX_ORIENTATION_DESC = "MEX_ORIENTATION_DESC.TXT"
SPACECRAFT_POINTING_MODE = ACROSSTRACK
^MEX_POINTING_DESC = "MEX_POINTING_DESC.TXT"
RIGHT_ASCENSION = -1e+32
DECLINATION = -1e+32
OFFSET_ANGLE = 0.25
SPACECRAFT_SOLAR_DISTANCE = 2.2331e+08
TARGET_NAME = MARS
/* CAMERA DATA ELEMENTS */
DETECTOR_TEMPERATURE = 16.7393
FOCAL_PLANE_TEMPERATURE = 7.9716
INST_CMPRS_NAME = "DISCRETE COSINE TRANSFORMATION (DCT)"
INST_CMPRS_RATIO = 13.7019
INST_CMPRS_QUALITY = 0
INST_CMPRS_QUANTZ_TBL_ID = 0
INSTRUMENT_TEMPERATURE = 11.0301
LENS_TEMPERATURE = 8.3794
MACROPIXEL_SIZE = 4
MISSING_FRAMES = 0
PIXEL_SUBSAMPLING_FLAG = N
SIGNAL_CHAIN_ID = 3
/* RADIOMETRIC DATA ELEMENTS */
BANDWIDTH = 177.0
CENTER_FILTER_WAVELENGTH = 676.5
RADIANCE_OFFSET = 3.57789
RADIANCE_SCALING_FACTOR = 0.0128032
REFLECTANCE_SCALING_FACTOR = 0.000338528
MEX:REFLECTANCE_OFFSET = 0.0946024
/* IMAGE OBJECT DEFINITIONS */
OBJECT = IMAGE
  INTERCHANGE_FORMAT = BINARY
  LINES = 23393
  LINE_SAMPLES = 3167
  SAMPLE_TYPE = UNSIGNED_INTEGER
  SAMPLE_BITS = 8
  BANDS = 1
  BAND_STORAGE_TYPE = BAND_SEQUENTIAL
  MAXIMUM = 255
  MEAN = 143.97
  MINIMUM = 1
  STANDARD_DEVIATION = 26.2501
END_OBJECT = IMAGE
/* MAP OBJECT DEFINITIONS */
OBJECT = IMAGE_MAP_PROJECTION
  ^DATA_SET_MAP_PROJECTION_CATALOG= "DSMAP.CAT"
  A_AXIS_RADIUS = 3396.0
  B_AXIS_RADIUS = 3396.0
  C_AXIS_RADIUS = 3396.0
  CENTER_LATITUDE = 0.0
  CENTER_LONGITUDE = 263.0
  COORDINATE_SYSTEM_NAME = PLANETOGRAPHIC
  COORDINATE_SYSTEM_TYPE = "BODY-FIXED ROTATING"
  EASTERNMOST_LONGITUDE = 264.913
  FIRST_STANDARD_PARALLEL = "N/A"
  LINE_FIRST_PIXEL = 1
  LINE_LAST_PIXEL = 23393
  LINE_PROJECTION_OFFSET = -55396.375
  MAP_PROJECTION_ROTATION = 0.0
  MAP_PROJECTION_TYPE = SINUSOIDAL
  MAP_RESOLUTION = 1185.42760773333
  MAP_SCALE = 0.05
  MAXIMUM_LATITUDE = -46.7458
  MINIMUM_LATITUDE = -66.4502
  POSITIVE_LONGITUDE_DIRECTION = EAST
  REFERENCE_LATITUDE = "N/A"
  REFERENCE_LONGITUDE = "N/A"
  SAMPLE_FIRST_PIXEL = 1
  SAMPLE_LAST_PIXEL = 3167
  SAMPLE_PROJECTION_OFFSET = 1640.625
  SECOND_STANDARD_PARALLEL = "N/A"
  WESTERNMOST_LONGITUDE = 259.569
END_OBJECT = IMAGE_MAP_PROJECTION
END
