PDS_VERSION_ID = PDS3
/* FILE DATA ELEMENTS */
RECORD_TYPE = UNDEFINED
/* POINTERS TO DATA OBJECTS */
^IMAGE = ("H2424_0000_ND4.TIF")
/* IDENTIFICATION DATA ELEMENTS */
DATA_SET_ID = "MEX-M-HRSC-4-REFDR-MAPPROJECT-EXT1-V4.0"
DATA_SET_NAME = "MARS EXPRESS HRSC MAP PROJECTED REFDR EXTENSION1 V4.0"
DETECTOR_ID = MEX_HRSC_NADIR
EVENT_TYPE = "MARS-REGIONAL-MAPPING-Te-Im"
INSTRUMENT_HOST_ID = MEX
INSTRUMENT_HOST_NAME = "MARS EXPRESS"
INSTRUMENT_ID = HRSC
INSTRUMENT_NAME = "HIGH RESOLUTION STEREO CAMERA"
MISSION_NAME = "MARS EXPRESS"
MISSION_PHASE_NAME = ME_Phase_1
PROCESSING_LEVEL_ID = 4
PRODUCT_CREATION_TIME = 2023-02-08T07:05:14.000Z
PRODUCT_ID = "H2424_0000_ND4.TIF"
RELEASE_ID = 0001
REVISION_ID = 0000
/* QUALITY DATA ELEMENTS */
DATA_QUALITY_ID = 1
DATA_QUALITY_DESC = "Data calculated based on original SPICE kernels"
/* TIME DATA ELEMENTS */
SPACECRAFT_CLOCK_START_COUNT = "1/0081600548.57952"
SPACECRAFT_CLOCK_STOP_COUNT = "1/0081600908.01521"
START_TIME = 2005-12-02T10:49:39.535Z
STOP_TIME = 2005-12-02T10:54:38.510Z
/* ORBITAL DATA ELEMENTS */
ASCENDING_NODE_LONGITUDE = 177.37
MAXIMUM_RESOLUTION = 0.0108
FOOTPRINT_POINT_LATITUDE = (-66.3415,-66.4598,-66.4608,-66.4637, -65.3928,-64.6787,-64.3074,-63.9355, -63.5637,-63.192,-62.8203,-62.4487, -62.0773,-61.7058,-61.3346,-60.9635, -60.5926,-60.2219,-59.8513,-59.481, -59.1108,-58.5345,-58.1501,-57.766, -57.3822,-56.9987,-56.6155,-56.2326, -55.638,-55.2413,-54.8451,-54.4494, -54.054,-53.4424,-53.0336,-52.6253, -52.2176,-51.7993,-51.3782,-50.9576, -50.5377,-49.8902,-49.4576,-49.0258, -48.3592,-47.915,-47.4716,-47.0291, -46.8081,-46.7891,-46.7581,-46.7316, -46.7309,-46.7308,-47.172,-47.6139, -48.0568,-48.5005,-48.9443,-49.3752, -49.8069,-50.4535,-50.8724,-51.292, -51.7121,-52.1299,-52.5367,-52.9439, -53.3517,-53.9622,-54.3566,-54.7513, -55.1464,-55.7398,-56.1354,-56.5171, -56.8991,-57.2813,-57.6636,-58.0464, -58.4297,-58.813,-59.3735,-59.7425, -60.2961,-60.6653,-61.0351,-61.4046, -61.7742,-62.1439,-62.5137,-62.8834, -63.2534,-63.6232,-63.9928,-64.7252, -65.4349,-66.1442,-66.3214,-66.3415)
FOOTPRINT_POINT_LONGITUDE = (259.651,261.846,261.868,261.906, 262.205,262.389,262.48,262.569,262.656, 262.739,262.82,262.898,262.975,263.048, 263.119,263.189,263.258,263.324,263.389 ,263.452,263.513,263.605,263.663,263.72 ,263.776,263.831,263.883,263.934, 264.011,264.061,264.109,264.158,264.203 ,264.272,264.317,264.361,264.403, 264.445,264.486,264.527,264.566,264.625 ,264.663,264.701,264.756,264.792, 264.827,264.862,264.878,264.88,263.813, 263.095,263.077,263.068,263.041,263.008 ,262.979,262.945,262.91,262.874,262.836 ,262.779,262.739,262.698,262.655, 262.609,262.564,262.517,262.468,262.393 ,262.342,262.289,262.235,262.148, 262.088,262.029,261.967,261.904,261.83, 261.761,261.698,261.626,261.515,261.44, 261.316,261.232,261.155,261.065,260.973 ,260.88,260.782,260.678,260.578,260.471 ,260.353,260.124,259.883,259.625, 259.557,259.651)
ORBIT_NUMBER = 2424
ORBITAL_ECCENTRICITY = 0.572
ORBITAL_INCLINATION = 86.62
ORBITAL_SEMIMAJOR_AXIS = 8538.16
PERIAPSIS_ALTITUDE = 273.16
PERIAPSIS_ARGUMENT_ANGLE = 292.15
PERIAPSIS_TIME = 2005-12-02T10:49:22.000Z
SPACECRAFT_ORIENTATION = (0.0,-1.0,0.0)
^MEX_ORIENTATION_DESC = "MEX_ORIENTATION_DESC.TXT"
SPACECRAFT_POINTING_MODE = ACROSSTRACK
^MEX_POINTING_DESC = "MEX_POINTING_DESC.TXT"
RIGHT_ASCENSION = -1e+32
DECLINATION = -1e+32
OFFSET_ANGLE = 0.25
SPACECRAFT_SOLAR_DISTANCE = 2.2331e+08
TARGET_NAME = MARS
/* CAMERA DATA ELEMENTS */
DETECTOR_TEMPERATURE = 17.9627
FOCAL_PLANE_TEMPERATURE = 7.9716
INST_CMPRS_NAME = "DISCRETE COSINE TRANSFORMATION (DCT)"
INST_CMPRS_RATIO = 7.29575
INST_CMPRS_QUALITY = 0
INST_CMPRS_QUANTZ_TBL_ID = 0
INSTRUMENT_TEMPERATURE = 11.0301
LENS_TEMPERATURE = 8.3794
MACROPIXEL_SIZE = 1
MISSING_FRAMES = 0
PIXEL_SUBSAMPLING_FLAG = N
SIGNAL_CHAIN_ID = 0
/* RADIOMETRIC DATA ELEMENTS */
BANDWIDTH = 177.0
CENTER_FILTER_WAVELENGTH = 677.5
RADIANCE_OFFSET = 2.99774
RADIANCE_SCALING_FACTOR = 0.0128055
REFLECTANCE_SCALING_FACTOR = 0.000339232
MEX:REFLECTANCE_OFFSET = 0.0794136
/* IMAGE OBJECT DEFINITIONS */
OBJECT = IMAGE
  INTERCHANGE_FORMAT = BINARY
  LINES = 93570
  LINE_SAMPLES = 12668
  SAMPLE_TYPE = UNSIGNED_INTEGER
  SAMPLE_BITS = 8
  BANDS = 1
  BAND_STORAGE_TYPE = BAND_SEQUENTIAL
  MAXIMUM = 255
  MEAN = 137.243
  MINIMUM = 1
  STANDARD_DEVIATION = 23.4764
END_OBJECT = IMAGE
/* MAP OBJECT DEFINITIONS */
OBJECT = IMAGE_MAP_PROJECTION
  ^DATA_SET_MAP_PROJECTION_CATALOG= "DSMAP.CAT"
  A_AXIS_RADIUS = 3396.0
  B_AXIS_RADIUS = 3396.0
  C_AXIS_RADIUS = 3396.0
  CENTER_LATITUDE = 0.0
  CENTER_LONGITUDE = 263.0
  COORDINATE_SYSTEM_NAME = PLANETOGRAPHIC
  COORDINATE_SYSTEM_TYPE = "BODY-FIXED ROTATING"
  EASTERNMOST_LONGITUDE = 264.88
  FIRST_STANDARD_PARALLEL = "N/A"
  LINE_FIRST_PIXEL = 1
  LINE_LAST_PIXEL = 93570
  LINE_PROJECTION_OFFSET = -221584.0
  MAP_PROJECTION_ROTATION = 0.0
  MAP_PROJECTION_TYPE = SINUSOIDAL
  MAP_RESOLUTION = 4741.71043093333
  MAP_SCALE = 0.0125
  MAXIMUM_LATITUDE = -46.7308
  MINIMUM_LATITUDE = -66.4637
  POSITIVE_LONGITUDE_DIRECTION = EAST
  REFERENCE_LATITUDE = "N/A"
  REFERENCE_LONGITUDE = "N/A"
  SAMPLE_FIRST_PIXEL = 1
  SAMPLE_LAST_PIXEL = 12668
  SAMPLE_PROJECTION_OFFSET = 6564.0
  SECOND_STANDARD_PARALLEL = "N/A"
  WESTERNMOST_LONGITUDE = 259.557
END_OBJECT = IMAGE_MAP_PROJECTION
END
