PDS_VERSION_ID = PDS3
/* FILE DATA ELEMENTS */
RECORD_TYPE = UNDEFINED
/* POINTERS TO DATA OBJECTS */
^IMAGE = ("H2421_0000_ND4.TIF")
/* IDENTIFICATION DATA ELEMENTS */
DATA_SET_ID = "MEX-M-HRSC-4-REFDR-MAPPROJECT-EXT1-V4.0"
DATA_SET_NAME = "MARS EXPRESS HRSC MAP PROJECTED REFDR EXTENSION1 V4.0"
DETECTOR_ID = MEX_HRSC_NADIR
EVENT_TYPE = "MARS-REGIONAL-MAPPING-Te-Im"
INSTRUMENT_HOST_ID = MEX
INSTRUMENT_HOST_NAME = "MARS EXPRESS"
INSTRUMENT_ID = HRSC
INSTRUMENT_NAME = "HIGH RESOLUTION STEREO CAMERA"
MISSION_NAME = "MARS EXPRESS"
MISSION_PHASE_NAME = ME_Phase_1
PROCESSING_LEVEL_ID = 4
PRODUCT_CREATION_TIME = 2023-02-08T07:05:14.000Z
PRODUCT_ID = "H2421_0000_ND4.TIF"
RELEASE_ID = 0001
REVISION_ID = 0000
/* QUALITY DATA ELEMENTS */
DATA_QUALITY_ID = 1
DATA_QUALITY_DESC = "Data calculated based on original SPICE kernels"
/* TIME DATA ELEMENTS */
SPACECRAFT_CLOCK_START_COUNT = "1/0081528244.57940"
SPACECRAFT_CLOCK_STOP_COUNT = "1/0081528639.55613"
START_TIME = 2005-12-01T14:44:39.507Z
STOP_TIME = 2005-12-01T14:49:45.502Z
/* ORBITAL DATA ELEMENTS */
ASCENDING_NODE_LONGITUDE = 177.43
MAXIMUM_RESOLUTION = 0.0129
FOOTPRINT_POINT_LATITUDE = (-50.5313,-50.5642,-50.5857,-50.5861, -50.5871,-50.026,-49.447,-49.0617, -48.6769,-48.0859,-47.6899,-47.2946, -46.8999,-46.5059,-46.1126,-45.7201, -45.3282,-44.9371,-44.5467,-44.1571, -43.7683,-43.3802,-42.9929,-42.6065, -42.2209,-41.8361,-41.4521,-41.0689, -40.6865,-40.305,-39.9243,-39.5445, -39.1656,-38.7875,-38.4104,-38.0342, -37.6588,-37.2844,-36.9109,-36.5383, -36.1667,-35.7961,-35.4264,-34.6899, -33.9573,-33.2286,-32.5038,-31.7831, -31.6036,-31.5955,-31.5946,-31.588, -31.5804,-31.5801,-31.5801,-32.2977, -33.0195,-33.7452,-34.475,-35.2087, -35.9462,-36.3165,-36.6877,-37.0598, -37.4329,-37.8069,-38.1818,-38.5576, -38.9343,-39.312,-39.6905,-40.0699, -40.4502,-40.8313,-41.2133,-41.5961, -41.9798,-42.3643,-42.7496,-43.1357, -43.5227,-43.9103,-44.2988,-44.688, -45.078,-45.4687,-45.8602,-46.2523, -46.6452,-47.0387,-47.433,-47.8278, -48.2234,-48.6156,-48.9996,-49.3842, -49.7694,-50.3354,-50.5222,-50.5313)
FOOTPRINT_POINT_LONGITUDE = (198.132,199.063,199.831,199.848, 199.894,199.933,199.974,200.002,200.029 ,200.071,200.096,200.121,200.145, 200.168,200.191,200.216,200.238,200.261 ,200.281,200.302,200.323,200.344, 200.362,200.386,200.41,200.429,200.449, 200.468,200.486,200.502,200.518,200.533 ,200.548,200.561,200.577,200.589, 200.599,200.612,200.625,200.638,200.651 ,200.664,200.678,200.704,200.73,200.753 ,200.777,200.799,200.804,200.804, 200.138,199.239,198.663,198.642,198.631 ,198.637,198.644,198.646,198.65,198.65, 198.648,198.646,198.644,198.639,198.637 ,198.633,198.629,198.624,198.618, 198.611,198.604,198.596,198.588,198.579 ,198.57,198.56,198.551,198.539,198.527, 198.514,198.501,198.486,198.472,198.457 ,198.44,198.422,198.404,198.385,198.364 ,198.344,198.321,198.298,198.274, 198.249,198.223,198.198,198.171,198.127 ,198.113,198.132)
ORBIT_NUMBER = 2421
ORBITAL_ECCENTRICITY = 0.572
ORBITAL_INCLINATION = 86.63
ORBITAL_SEMIMAJOR_AXIS = 8538.27
PERIAPSIS_ALTITUDE = 273.38
PERIAPSIS_ARGUMENT_ANGLE = 292.68
PERIAPSIS_TIME = 2005-12-01T14:40:30.000Z
SPACECRAFT_ORIENTATION = (0.0,-1.0,0.0)
^MEX_ORIENTATION_DESC = "MEX_ORIENTATION_DESC.TXT"
SPACECRAFT_POINTING_MODE = ACROSSTRACK
^MEX_POINTING_DESC = "MEX_POINTING_DESC.TXT"
RIGHT_ASCENSION = -1e+32
DECLINATION = -1e+32
OFFSET_ANGLE = -0.15
SPACECRAFT_SOLAR_DISTANCE = 2.23147e+08
TARGET_NAME = MARS
/* CAMERA DATA ELEMENTS */
DETECTOR_TEMPERATURE = 18.1666
FOCAL_PLANE_TEMPERATURE = 7.7677
INST_CMPRS_NAME = "DISCRETE COSINE TRANSFORMATION (DCT)"
INST_CMPRS_RATIO = 7.16076
INST_CMPRS_QUALITY = 0
INST_CMPRS_QUANTZ_TBL_ID = 0
INSTRUMENT_TEMPERATURE = 11.0301
LENS_TEMPERATURE = 8.1755
MACROPIXEL_SIZE = 1
MISSING_FRAMES = 0
PIXEL_SUBSAMPLING_FLAG = N
SIGNAL_CHAIN_ID = 0
/* RADIOMETRIC DATA ELEMENTS */
BANDWIDTH = 177.0
CENTER_FILTER_WAVELENGTH = 677.5
RADIANCE_OFFSET = 4.27128
RADIANCE_SCALING_FACTOR = 0.0162009
REFLECTANCE_SCALING_FACTOR = 0.000428557
MEX:REFLECTANCE_OFFSET = 0.112987
/* IMAGE OBJECT DEFINITIONS */
OBJECT = IMAGE
  INTERCHANGE_FORMAT = BINARY
  LINES = 90128
  LINE_SAMPLES = 8942
  SAMPLE_TYPE = UNSIGNED_INTEGER
  SAMPLE_BITS = 8
  BANDS = 1
  BAND_STORAGE_TYPE = BAND_SEQUENTIAL
  MAXIMUM = 255
  MEAN = 126.889
  MINIMUM = 1
  STANDARD_DEVIATION = 32.4461
END_OBJECT = IMAGE
/* MAP OBJECT DEFINITIONS */
OBJECT = IMAGE_MAP_PROJECTION
  ^DATA_SET_MAP_PROJECTION_CATALOG= "DSMAP.CAT"
  A_AXIS_RADIUS = 3396.0
  B_AXIS_RADIUS = 3396.0
  C_AXIS_RADIUS = 3396.0
  CENTER_LATITUDE = 0.0
  CENTER_LONGITUDE = 200.0
  COORDINATE_SYSTEM_NAME = PLANETOGRAPHIC
  COORDINATE_SYSTEM_TYPE = "BODY-FIXED ROTATING"
  EASTERNMOST_LONGITUDE = 200.804
  FIRST_STANDARD_PARALLEL = "N/A"
  LINE_FIRST_PIXEL = 1
  LINE_LAST_PIXEL = 90128
  LINE_PROJECTION_OFFSET = -149744.0
  MAP_PROJECTION_ROTATION = 0.0
  MAP_PROJECTION_TYPE = SINUSOIDAL
  MAP_RESOLUTION = 4741.71043093333
  MAP_SCALE = 0.0125
  MAXIMUM_LATITUDE = -31.5801
  MINIMUM_LATITUDE = -50.5871
  POSITIVE_LONGITUDE_DIRECTION = EAST
  REFERENCE_LATITUDE = "N/A"
  REFERENCE_LONGITUDE = "N/A"
  SAMPLE_FIRST_PIXEL = 1
  SAMPLE_LAST_PIXEL = 8942
  SAMPLE_PROJECTION_OFFSET = 5691.0
  SECOND_STANDARD_PARALLEL = "N/A"
  WESTERNMOST_LONGITUDE = 198.113
END_OBJECT = IMAGE_MAP_PROJECTION
END
