PDS_VERSION_ID = PDS3
/* FILE DATA ELEMENTS */
RECORD_TYPE = UNDEFINED
/* POINTERS TO DATA OBJECTS */
^IMAGE = ("H2419_0003_SR4.TIF")
/* IDENTIFICATION DATA ELEMENTS */
DATA_SET_ID = "MEX-M-HRSC-4-REFDR-MAPPROJECT-EXT1-V4.0"
DATA_SET_NAME = "MARS EXPRESS HRSC MAP PROJECTED REFDR EXTENSION1 V4.0"
DETECTOR_ID = MEX_HRSC_SRC
EVENT_TYPE = "MARS-REGIONAL-COLOR-Gl-La"
INSTRUMENT_HOST_ID = MEX
INSTRUMENT_HOST_NAME = "MARS EXPRESS"
INSTRUMENT_ID = HRSC
INSTRUMENT_NAME = "HIGH RESOLUTION STEREO CAMERA"
MISSION_NAME = "MARS EXPRESS"
MISSION_PHASE_NAME = ME_Phase_1
PROCESSING_LEVEL_ID = 4
PRODUCT_CREATION_TIME = 2023-02-08T07:05:14.000Z
PRODUCT_ID = "H2419_0003_SR4.TIF"
RELEASE_ID = 0001
REVISION_ID = 0000
/* QUALITY DATA ELEMENTS */
DATA_QUALITY_ID = 1
DATA_QUALITY_DESC = "Data calculated based on original SPICE kernels"
/* TIME DATA ELEMENTS */
SPACECRAFT_CLOCK_START_COUNT = "1/0081479328.57968"
SPACECRAFT_CLOCK_STOP_COUNT = "1/0081479464.40297"
IMAGE_TIME = 2005-12-01T01:09:39.616Z
START_TIME = 2005-12-01T01:09:39.614Z
STOP_TIME = 2005-12-01T01:09:39.619Z
/* ORBITAL DATA ELEMENTS */
ASCENDING_NODE_LONGITUDE = 177.48
MAXIMUM_RESOLUTION = 0.003208
FOOTPRINT_POINT_LATITUDE = (-85.3864,-85.3882,-85.3903,-85.3923, -85.3938,-85.3957,-85.3969,-85.3981, -85.3993,-85.4008,-85.4021,-85.4038, -85.4058,-85.4081,-85.4096,-85.4116, -85.4133,-85.4159,-85.4173,-85.4196, -85.421,-85.4238,-85.4263,-85.4264, -85.4263,-85.4241,-85.4226,-85.4211, -85.4196,-85.4181,-85.4166,-85.4151, -85.4136,-85.4121,-85.4106,-85.4091, -85.4076,-85.4061,-85.4046,-85.4031, -85.4008,-85.3993,-85.3978,-85.3963, -85.3948,-85.3933,-85.3918,-85.3903, -85.3888,-85.3884,-85.3882,-85.3856, -85.3828,-85.3814,-85.3797,-85.3774, -85.3761,-85.3746,-85.3723,-85.3703, -85.3685,-85.367,-85.3656,-85.3638, -85.3615,-85.3601,-85.3579,-85.3559, -85.354,-85.3525,-85.3513,-85.3486, -85.3486,-85.3486,-85.3501,-85.3516, -85.3535,-85.355,-85.3565,-85.358, -85.3595,-85.361,-85.3624,-85.3639, -85.3654,-85.3669,-85.3684,-85.3699, -85.3714,-85.3729,-85.3744,-85.3758, -85.3773,-85.3792,-85.3807,-85.3821, -85.3836,-85.3858,-85.3862,-85.3864)
FOOTPRINT_POINT_LONGITUDE = (358.452,358.431,358.408,358.384, 358.367,358.345,358.33,358.316,358.302, 358.285,358.27,358.25,358.227,358.2, 358.183,358.158,358.138,358.108,358.092 ,358.065,358.048,358.015,357.985, 357.984,357.984,357.954,357.934,357.914 ,357.895,357.875,357.855,357.835, 357.816,357.796,357.776,357.757,357.737 ,357.717,357.698,357.678,357.648, 357.629,357.609,357.59,357.57,357.551, 357.531,357.512,357.492,357.487,357.484 ,357.515,357.549,357.565,357.586, 357.613,357.628,357.646,357.674,357.698 ,357.719,357.736,357.753,357.774, 357.801,357.818,357.843,357.867,357.889 ,357.907,357.921,357.952,357.952, 357.953,357.972,357.992,358.016,358.036 ,358.055,358.075,358.094,358.114, 358.133,358.153,358.173,358.192,358.212 ,358.232,358.251,358.271,358.291,358.31 ,358.33,358.355,358.375,358.394,358.414 ,358.444,358.449,358.452)
ORBIT_NUMBER = 2419
ORBITAL_ECCENTRICITY = 0.572
ORBITAL_INCLINATION = 86.62
ORBITAL_SEMIMAJOR_AXIS = 8541.01
PERIAPSIS_ALTITUDE = 273.59
PERIAPSIS_ARGUMENT_ANGLE = 293.03
PERIAPSIS_TIME = 2005-12-01T01:14:37.000Z
SPACECRAFT_ORIENTATION = (0.0,-1.0,0.0)
^MEX_ORIENTATION_DESC = "MEX_ORIENTATION_DESC.TXT"
SPACECRAFT_POINTING_MODE = ACROSSTRACK
^MEX_POINTING_DESC = "MEX_POINTING_DESC.TXT"
RIGHT_ASCENSION = -1e+32
DECLINATION = -1e+32
OFFSET_ANGLE = -0.19
SPACECRAFT_SOLAR_DISTANCE = 2.23039e+08
TARGET_NAME = MARS
/* CAMERA DATA ELEMENTS */
BUFFER_MODE_ID = BUFFER_8
EXPOSURE_DURATION = 5.04
INST_CMPRS_NAME = NONE
INST_CMPRS_RATIO = 1.0
INST_CMPRS_QUALITY = -2147483648
INST_CMPRS_QUANTZ_TBL_ID = -2147483648
INSTRUMENT_TEMPERATURE = 5.69201
MISSING_FRAMES = 0
START_BIT = 0
/* RADIOMETRIC DATA ELEMENTS */
BANDWIDTH = 250.0
CENTER_FILTER_WAVELENGTH = 600.0
RADIANCE_OFFSET = -9.99e+31
RADIANCE_SCALING_FACTOR = -9.99e+31
REFLECTANCE_SCALING_FACTOR = -9.99e+31
MEX:REFLECTANCE_OFFSET = -9.99e+31
/* IMAGE OBJECT DEFINITIONS */
OBJECT = IMAGE
  INTERCHANGE_FORMAT = BINARY
  LINES = 1999
  LINE_SAMPLES = 2001
  SAMPLE_TYPE = UNSIGNED_INTEGER
  SAMPLE_BITS = 8
  BANDS = 1
  BAND_STORAGE_TYPE = BAND_SEQUENTIAL
  MAXIMUM = 251
  MEAN = 147.583
  MINIMUM = 6
  STANDARD_DEVIATION = 22.97
END_OBJECT = IMAGE
/* MAP OBJECT DEFINITIONS */
OBJECT = IMAGE_MAP_PROJECTION
  ^DATA_SET_MAP_PROJECTION_CATALOG= "DSMAP.CAT"
  A_AXIS_RADIUS = 3396.19
  B_AXIS_RADIUS = 3396.19
  C_AXIS_RADIUS = 3396.19
  CENTER_LATITUDE = -90.0
  CENTER_LONGITUDE = 0.0
  COORDINATE_SYSTEM_NAME = PLANETOGRAPHIC
  COORDINATE_SYSTEM_TYPE = "BODY-FIXED ROTATING"
  EASTERNMOST_LONGITUDE = 358.452
  FIRST_STANDARD_PARALLEL = "N/A"
  LINE_FIRST_PIXEL = 1
  LINE_LAST_PIXEL = 1999
  LINE_PROJECTION_OFFSET = 110176.0
  MAP_PROJECTION_ROTATION = 0.0
  MAP_PROJECTION_TYPE = STEREOGRAPHIC
  MAP_RESOLUTION = 23709.8786048756
  MAP_SCALE = 0.0025
  MAXIMUM_LATITUDE = -85.3486
  MINIMUM_LATITUDE = -85.4264
  POSITIVE_LONGITUDE_DIRECTION = EAST
  REFERENCE_LATITUDE = "N/A"
  REFERENCE_LONGITUDE = "N/A"
  SAMPLE_FIRST_PIXEL = 1
  SAMPLE_LAST_PIXEL = 2001
  SAMPLE_PROJECTION_OFFSET = 4645.0
  SECOND_STANDARD_PARALLEL = "N/A"
  WESTERNMOST_LONGITUDE = 357.484
END_OBJECT = IMAGE_MAP_PROJECTION
END
